BEGIN:VCALENDAR
VERSION:2.0
PRODID:-//Circle Club Winterhude - ECPv6.15.18//NONSGML v1.0//EN
CALSCALE:GREGORIAN
METHOD:PUBLISH
X-WR-CALNAME:Circle Club Winterhude
X-ORIGINAL-URL:https://circle-hamburg.com
X-WR-CALDESC:Veranstaltungen für Circle Club Winterhude
REFRESH-INTERVAL;VALUE=DURATION:PT1H
X-Robots-Tag:noindex
X-PUBLISHED-TTL:PT1H
BEGIN:VTIMEZONE
TZID:Europe/Berlin
BEGIN:DAYLIGHT
TZOFFSETFROM:+0100
TZOFFSETTO:+0200
TZNAME:CEST
DTSTART:20250330T010000
END:DAYLIGHT
BEGIN:STANDARD
TZOFFSETFROM:+0200
TZOFFSETTO:+0100
TZNAME:CET
DTSTART:20251026T010000
END:STANDARD
BEGIN:DAYLIGHT
TZOFFSETFROM:+0100
TZOFFSETTO:+0200
TZNAME:CEST
DTSTART:20260329T010000
END:DAYLIGHT
BEGIN:STANDARD
TZOFFSETFROM:+0200
TZOFFSETTO:+0100
TZNAME:CET
DTSTART:20261025T010000
END:STANDARD
BEGIN:DAYLIGHT
TZOFFSETFROM:+0100
TZOFFSETTO:+0200
TZNAME:CEST
DTSTART:20270328T010000
END:DAYLIGHT
BEGIN:STANDARD
TZOFFSETFROM:+0200
TZOFFSETTO:+0100
TZNAME:CET
DTSTART:20271031T010000
END:STANDARD
END:VTIMEZONE
BEGIN:VEVENT
DTSTART;TZID=Europe/Berlin:20260424T230000
DTEND;TZID=Europe/Berlin:20260424T230000
DTSTAMP:20260423T192221
CREATED:20260322T113520Z
LAST-MODIFIED:20260322T113700Z
UID:44833-1777071600-1777071600@circle-hamburg.com
SUMMARY:JU EN MI
DESCRIPTION:YOU & ME 🖤 \nYOU & MEDU UND ICHTU Y YOTY I JAVOUS ET MOIME E TEBẠN VÀ TÔISEN VE BENتو و من \nOn Friday\, 24.04\, Circle becomes a space where connection\, music and energy come together.Two floors\, one atmosphere – built for nights you don’t want to end. \nBack in Hamburg – first time at Circle after their NOHO residency. \nLine-up: \nAlexander ZimmermannOSARO (Austria)LESANO (Munich) \nExpect a packed dancefloor\, immersive vibes and a night driven by connection. \nDoors open: 11:00 PM📍 Circle Club Hamburg🎟️ Table reservations: reservierung@circle-hamburg.com
URL:https://circle-hamburg.com/event/ju-en-mi/
ATTACH;FMTTYPE=image/jpeg:https://circle-hamburg.com/wp-content/uploads/2026/03/JuEnMi_2404_circle_FB.jpg
END:VEVENT
BEGIN:VEVENT
DTSTART;TZID=Europe/Berlin:20260425T230000
DTEND;TZID=Europe/Berlin:20260425T230000
DTSTAMP:20260423T192221
CREATED:20260322T090758Z
LAST-MODIFIED:20260322T091132Z
UID:44799-1777158000-1777158000@circle-hamburg.com
SUMMARY:BOHEME
DESCRIPTION:Saturday\, 25.04 – BOHÈME \nSaturday means BOHÈME – deep\, driving & electrifying.This week with Daze Malone (Düsseldorf) & thisiseileeen\, delivering hypnotic grooves\, emotional depth and pure late-night energy. \nA night defined by atmosphere\, movement and connection on the dancefloor. \nDoors open: 11:00 PM📍 Circle Club Hamburg🎟️ Table reservations: reservierung@circle-hamburg.com
URL:https://circle-hamburg.com/event/boheme-51/
ATTACH;FMTTYPE=image/jpeg:https://circle-hamburg.com/wp-content/uploads/2026/03/Gross-2504_Eventbanner.jpeg
END:VEVENT
BEGIN:VEVENT
DTSTART;TZID=Europe/Berlin:20260429T230000
DTEND;TZID=Europe/Berlin:20260429T230000
DTSTAMP:20260423T192221
CREATED:20260322T093108Z
LAST-MODIFIED:20260322T093201Z
UID:44826-1777503600-1777503600@circle-hamburg.com
SUMMARY:ONE LOVE MITTWOCH
DESCRIPTION:Wednesday – ONE LOVEMidweek vibes\, pure energy. 💛ONE LOVE brings you Hip-Hop\, R&B & Afro tunes – the perfect mix to keep the dancefloor alive on a Wednesday night.Good people\, good music\, one love. \nDoors open: 10:00 PM📍 Circle Club Hamburg🎟️ Table reservations: reservierung@circle-hamburg.com
URL:https://circle-hamburg.com/event/one-love-mittwoch-51/
ATTACH;FMTTYPE=image/jpeg:https://circle-hamburg.com/wp-content/uploads/2025/02/ONE_LOVE_EVENTBANNER-scaled.jpg
END:VEVENT
BEGIN:VEVENT
DTSTART;TZID=Europe/Berlin:20260430T230000
DTEND;TZID=Europe/Berlin:20260430T230000
DTSTAMP:20260423T192221
CREATED:20260322T091748Z
LAST-MODIFIED:20260322T091850Z
UID:44809-1777590000-1777590000@circle-hamburg.com
SUMMARY:TANZ IN DEN MAI
DESCRIPTION:Thursday\, 30.04 – TANZ IN DEN MAI 🌿 \nStep into May the right way.Join us for Tanz in den Mai at Circle Club – a night built on rhythm\, energy and the perfect transition into a new month. \nOn the decks: our residents LE/ON & Elias Everest\, delivering the sound that defines Circle – deep\, driving and electrifying from start to finish. \nNext day is a public holiday – no excuses. \nDance into May. Feel the moment. \nDoors open: 11:00 PM📍 Circle Club Hamburg🎟️ Table reservations: reservierung@circle-hamburg.com
URL:https://circle-hamburg.com/event/tanz-in-den-mai-2/
ATTACH;FMTTYPE=image/jpeg:https://circle-hamburg.com/wp-content/uploads/2026/03/Gross-3004_Eventbanner.jpeg
END:VEVENT
END:VCALENDAR