BEGIN:VCALENDAR
VERSION:2.0
PRODID:-//Circle Club Winterhude - ECPv6.15.18//NONSGML v1.0//EN
CALSCALE:GREGORIAN
METHOD:PUBLISH
X-ORIGINAL-URL:https://circle-hamburg.com
X-WR-CALDESC:Veranstaltungen für Circle Club Winterhude
REFRESH-INTERVAL;VALUE=DURATION:PT1H
X-Robots-Tag:noindex
X-PUBLISHED-TTL:PT1H
BEGIN:VTIMEZONE
TZID:Europe/Berlin
BEGIN:DAYLIGHT
TZOFFSETFROM:+0100
TZOFFSETTO:+0200
TZNAME:CEST
DTSTART:20250330T010000
END:DAYLIGHT
BEGIN:STANDARD
TZOFFSETFROM:+0200
TZOFFSETTO:+0100
TZNAME:CET
DTSTART:20251026T010000
END:STANDARD
BEGIN:DAYLIGHT
TZOFFSETFROM:+0100
TZOFFSETTO:+0200
TZNAME:CEST
DTSTART:20260329T010000
END:DAYLIGHT
BEGIN:STANDARD
TZOFFSETFROM:+0200
TZOFFSETTO:+0100
TZNAME:CET
DTSTART:20261025T010000
END:STANDARD
BEGIN:DAYLIGHT
TZOFFSETFROM:+0100
TZOFFSETTO:+0200
TZNAME:CEST
DTSTART:20270328T010000
END:DAYLIGHT
BEGIN:STANDARD
TZOFFSETFROM:+0200
TZOFFSETTO:+0100
TZNAME:CET
DTSTART:20271031T010000
END:STANDARD
END:VTIMEZONE
BEGIN:VEVENT
DTSTART;TZID=Europe/Berlin:20260204T220000
DTEND;TZID=Europe/Berlin:20260204T220000
DTSTAMP:20260423T225145
CREATED:20260203T105921Z
LAST-MODIFIED:20260203T105959Z
UID:44515-1770242400-1770242400@circle-hamburg.com
SUMMARY:ONE LOVE MITTWOCH
DESCRIPTION:Wednesday – ONE LOVEMidweek vibes\, pure energy. 💛ONE LOVE brings you Hip-Hop\, R&B & Afro tunes – the perfect mix to keep the dancefloor alive on a Wednesday night.Good people\, good music\, one love. \nDoors open: 10:00 PM📍 Circle Club Hamburg🎟️ Table reservations: reservierung@circle-hamburg.com
URL:https://circle-hamburg.com/event/one-love-mittwoch-39/
ATTACH;FMTTYPE=image/jpeg:https://circle-hamburg.com/wp-content/uploads/2025/04/Gross-ONE_LOVE_EVENTBANNER-1.jpeg
END:VEVENT
BEGIN:VEVENT
DTSTART;TZID=Europe/Berlin:20260207T230000
DTEND;TZID=Europe/Berlin:20260207T230000
DTSTAMP:20260423T225145
CREATED:20260203T114120Z
LAST-MODIFIED:20260203T114208Z
UID:44531-1770505200-1770505200@circle-hamburg.com
SUMMARY:BOHEME
DESCRIPTION:Saturday\, 07.02 – BOHÈMESaturday means BOHÈME – deep\, driving & electrifying.This week with Paul Kold & LE/ON\, delivering hypnotic grooves\, rolling rhythms & pure house energy all night long. \nDoors open: 11:00 PM📍 Circle Club Hamburg🎟️ Table reservations: reservierung@circle-hamburg.com
URL:https://circle-hamburg.com/event/boheme-42/
ATTACH;FMTTYPE=image/jpeg:https://circle-hamburg.com/wp-content/uploads/2026/02/Gross-0702_Eventbanner.jpeg
END:VEVENT
BEGIN:VEVENT
DTSTART;TZID=Europe/Berlin:20260211T220000
DTEND;TZID=Europe/Berlin:20260211T220000
DTSTAMP:20260423T225145
CREATED:20260203T110114Z
LAST-MODIFIED:20260203T110122Z
UID:44518-1770847200-1770847200@circle-hamburg.com
SUMMARY:ONE LOVE MITTWOCH
DESCRIPTION:Wednesday – ONE LOVEMidweek vibes\, pure energy. 💛ONE LOVE brings you Hip-Hop\, R&B & Afro tunes – the perfect mix to keep the dancefloor alive on a Wednesday night.Good people\, good music\, one love. \nDoors open: 10:00 PM📍 Circle Club Hamburg🎟️ Table reservations: reservierung@circle-hamburg.com
URL:https://circle-hamburg.com/event/one-love-mittwoch-40/
ATTACH;FMTTYPE=image/jpeg:https://circle-hamburg.com/wp-content/uploads/2025/04/Gross-ONE_LOVE_EVENTBANNER-1.jpeg
END:VEVENT
BEGIN:VEVENT
DTSTART;TZID=Europe/Berlin:20260213T230000
DTEND;TZID=Europe/Berlin:20260213T230000
DTSTAMP:20260423T225145
CREATED:20260203T113656Z
LAST-MODIFIED:20260203T113709Z
UID:44527-1771023600-1771023600@circle-hamburg.com
SUMMARY:SPN INC | Valentine’s Night
DESCRIPTION:Friday\, 13.02 – SPN INC | Valentine’s NightNot about clichés. About connection.This Valentine’s Night is all about shared moments on the dancefloor – whether you come together or solo.SPN INC delivers deep\, driving & hypnotic house vibes with TYMO & LE/ON setting the tone for a night full of rhythm\, closeness and late-night energy. \nDoors open: 11:00 PM📍 Circle Club Hamburg🎟️ Table reservations: reservierung@circle-hamburg.com
URL:https://circle-hamburg.com/event/spn-inc-valentines-night/
ATTACH;FMTTYPE=image/jpeg:https://circle-hamburg.com/wp-content/uploads/2026/02/Gross-1302_Eventbanner.jpeg
END:VEVENT
BEGIN:VEVENT
DTSTART;TZID=Europe/Berlin:20260214T230000
DTEND;TZID=Europe/Berlin:20260214T230000
DTSTAMP:20260423T225145
CREATED:20260203T114709Z
LAST-MODIFIED:20260203T115010Z
UID:44535-1771110000-1771110000@circle-hamburg.com
SUMMARY:BOHEME
DESCRIPTION:Saturday\, 14.02 – BOHÈME | Valentine’s EditionRhythm over romance. Connection over clichés.\nThis Valentine’s Night\, BOHÈME turns love into movement – deep\, driving & electrifying house vibes all night long.On the decks: Daze Malone & Everest\, delivering hypnotic grooves and late-night energy made for shared moments on the dancefloor. \nDoors open: 11:00 PM📍 Circle Club Hamburg🎟️ Table reservations: reservierung@circle-hamburg.com
URL:https://circle-hamburg.com/event/boheme-43/
ATTACH;FMTTYPE=image/jpeg:https://circle-hamburg.com/wp-content/uploads/2026/02/Gross-1402_Eventbanner.jpeg
END:VEVENT
BEGIN:VEVENT
DTSTART;TZID=Europe/Berlin:20260216T080000
DTEND;TZID=Europe/Berlin:20260216T170000
DTSTAMP:20260423T225145
CREATED:20260216T102401Z
LAST-MODIFIED:20260216T102401Z
UID:44598-1771228800-1771261200@circle-hamburg.com
SUMMARY:ZAKURA
DESCRIPTION:Friday\, 27.02 – ZAKURA 🌸A night inspired by Japan.For one evening\, Circle transforms into a world of cherry blossom vibes\, deep rhythms and refined energy. \nOn the decks: LE/ON\, JUNO & Lenny Cortado\, delivering a carefully curated mix of house sounds from start to finish. \nExpect atmosphere\, aesthetics and a dancefloor in full bloom. 🌸 \nDoors open: 11:00 PM📍 Circle Club Hamburg🎟️ Table reservations: reservierung@circle-hamburg.com
URL:https://circle-hamburg.com/event/zakura/
ATTACH;FMTTYPE=image/jpeg:https://circle-hamburg.com/wp-content/uploads/2026/02/Gross-2702_Eventbanner.jpeg
END:VEVENT
BEGIN:VEVENT
DTSTART;TZID=Europe/Berlin:20260218T220000
DTEND;TZID=Europe/Berlin:20260218T220000
DTSTAMP:20260423T225145
CREATED:20260203T110218Z
LAST-MODIFIED:20260203T120441Z
UID:44521-1771452000-1771452000@circle-hamburg.com
SUMMARY:ONE LOVE MITTWOCH
DESCRIPTION:Wednesday – ONE LOVEMidweek vibes\, pure energy. 💛ONE LOVE brings you Hip-Hop\, R&B & Afro tunes – the perfect mix to keep the dancefloor alive on a Wednesday night.Good people\, good music\, one love. \nDoors open: 10:00 PM📍 Circle Club Hamburg🎟️ Table reservations: reservierung@circle-hamburg.com
URL:https://circle-hamburg.com/event/one-love-mittwoch-41/
ATTACH;FMTTYPE=image/jpeg:https://circle-hamburg.com/wp-content/uploads/2025/04/Gross-ONE_LOVE_EVENTBANNER-1.jpeg
END:VEVENT
BEGIN:VEVENT
DTSTART;TZID=Europe/Berlin:20260220T230000
DTEND;TZID=Europe/Berlin:20260220T230000
DTSTAMP:20260423T225145
CREATED:20260209T121425Z
LAST-MODIFIED:20260209T121803Z
UID:44561-1771628400-1771628400@circle-hamburg.com
SUMMARY:CIRCLE BIRtHDAY TEIL 1
DESCRIPTION:Friday\, 20.02 – CIRCLE BIRTHDAY 🎂🖤It’s our birthday – and we’re celebrating together with you.Join us for a special night at Circle Club as we celebrate another year of music\, nights and unforgettable moments on the dancefloor. \nOn the decks: our residents LE/ON & Everest\, delivering the sound that defines Circle from start to finish.Expect birthday vibes\, special moments and a packed dancefloor all night long. \nDoors open: 11:00 PM📍 Circle Club Hamburg🎟️ Table reservations: reservierung@circle-hamburg.com
URL:https://circle-hamburg.com/event/circle-birthday-teil-1/
ATTACH;FMTTYPE=image/jpeg:https://circle-hamburg.com/wp-content/uploads/2026/02/Gross-2002_Eventbanner.jpeg
END:VEVENT
BEGIN:VEVENT
DTSTART;TZID=Europe/Berlin:20260221T230000
DTEND;TZID=Europe/Berlin:20260221T230000
DTSTAMP:20260423T225145
CREATED:20260209T122807Z
LAST-MODIFIED:20260209T122813Z
UID:44565-1771714800-1771714800@circle-hamburg.com
SUMMARY:CIRLCE BIRTHDAY TEIL 2
DESCRIPTION:Saturday\, 21.02 – CIRCLE BIRTHDAY | Part II 🎂🖤The celebration continues.After an unforgettable first night\, we go into Part II of our Circle Birthday weekend – bigger\, deeper\, louder. \nStar of the night: TOPIC\, delivering his signature sound and headline energy to the Circle dancefloor.Supported by our residents LE/ON & Elias Everest\, setting the tone from start to finish. \nExpect a packed dancefloor\, special birthday moments and a night made to celebrate properly. \nDoors open: 11:00 PM📍 Circle Club Hamburg🎟️ Table reservations: reservierung@circle-hamburg.com
URL:https://circle-hamburg.com/event/cirlce-birthday-teil-2/
ATTACH;FMTTYPE=image/jpeg:https://circle-hamburg.com/wp-content/uploads/2026/02/Gross-2102_Eventbanner.jpeg
END:VEVENT
BEGIN:VEVENT
DTSTART;TZID=Europe/Berlin:20260225T220000
DTEND;TZID=Europe/Berlin:20260225T220000
DTSTAMP:20260423T225145
CREATED:20260203T110515Z
LAST-MODIFIED:20260203T110526Z
UID:44524-1772056800-1772056800@circle-hamburg.com
SUMMARY:ONE LOVE MITTWOCH
DESCRIPTION:Wednesday – ONE LOVEMidweek vibes\, pure energy. 💛ONE LOVE brings you Hip-Hop\, R&B & Afro tunes – the perfect mix to keep the dancefloor alive on a Wednesday night.Good people\, good music\, one love. \nDoors open: 10:00 PM📍 Circle Club Hamburg🎟️ Table reservations: reservierung@circle-hamburg.com
URL:https://circle-hamburg.com/event/one-love-mittwoch-42/
ATTACH;FMTTYPE=image/jpeg:https://circle-hamburg.com/wp-content/uploads/2025/02/ONE_LOVE_EVENTBANNER-scaled.jpg
END:VEVENT
BEGIN:VEVENT
DTSTART;TZID=Europe/Berlin:20260227T230000
DTEND;TZID=Europe/Berlin:20260227T230000
DTSTAMP:20260423T225145
CREATED:20260225T092747Z
LAST-MODIFIED:20260225T150723Z
UID:44629-1772233200-1772233200@circle-hamburg.com
SUMMARY:ZAKURA
DESCRIPTION:Friday\, 27.02 – ZAKURA 🌸 \nWhere cherry blossoms meet heavy bass and the night glows under neon lanterns.Step into an Asian-inspired atmosphere filled with energy\, elegance and unforgettable moments. \nFor one night\, Circle transforms into a world of blossoms\, lights and deep rhythms. \nOn the decks: Lenny Cortado\, JUNO & LE/ON\, delivering a carefully curated soundtrack from start to finish. \nDoors open: 11:00 PM📍 Circle Club Hamburg🎟️ Table reservations: reservierung@circle-hamburg.com
URL:https://circle-hamburg.com/event/zakura-2/
ATTACH;FMTTYPE=image/jpeg:https://circle-hamburg.com/wp-content/uploads/2026/02/Gross-2702_Eventbanner.jpeg
END:VEVENT
BEGIN:VEVENT
DTSTART;TZID=Europe/Berlin:20260228T230000
DTEND;TZID=Europe/Berlin:20260228T230000
DTSTAMP:20260423T225145
CREATED:20260203T115807Z
LAST-MODIFIED:20260203T120139Z
UID:44540-1772319600-1772319600@circle-hamburg.com
SUMMARY:BOHEME
DESCRIPTION:Saturday\, 28.02 – BOHÈMESaturday means BOHÈME – deep\, driving & electrifying.This week with LE/ON & AMR (Berlin)\, delivering hypnotic grooves\, rolling rhythms & pure house energy all night long. \nDoors open: 11:00 PM📍 Circle Club Hamburg🎟️ Table reservations: reservierung@circle-hamburg.com
URL:https://circle-hamburg.com/event/boheme-44/
ATTACH;FMTTYPE=image/jpeg:https://circle-hamburg.com/wp-content/uploads/2026/02/Gross-2802_Eventbanner.jpeg
END:VEVENT
END:VCALENDAR