BEGIN:VCALENDAR
VERSION:2.0
PRODID:-//Circle Club Winterhude - ECPv6.15.18//NONSGML v1.0//EN
CALSCALE:GREGORIAN
METHOD:PUBLISH
X-ORIGINAL-URL:https://circle-hamburg.com
X-WR-CALDESC:Veranstaltungen für Circle Club Winterhude
REFRESH-INTERVAL;VALUE=DURATION:PT1H
X-Robots-Tag:noindex
X-PUBLISHED-TTL:PT1H
BEGIN:VTIMEZONE
TZID:Europe/Berlin
BEGIN:DAYLIGHT
TZOFFSETFROM:+0100
TZOFFSETTO:+0200
TZNAME:CEST
DTSTART:20250330T010000
END:DAYLIGHT
BEGIN:STANDARD
TZOFFSETFROM:+0200
TZOFFSETTO:+0100
TZNAME:CET
DTSTART:20251026T010000
END:STANDARD
BEGIN:DAYLIGHT
TZOFFSETFROM:+0100
TZOFFSETTO:+0200
TZNAME:CEST
DTSTART:20260329T010000
END:DAYLIGHT
BEGIN:STANDARD
TZOFFSETFROM:+0200
TZOFFSETTO:+0100
TZNAME:CET
DTSTART:20261025T010000
END:STANDARD
BEGIN:DAYLIGHT
TZOFFSETFROM:+0100
TZOFFSETTO:+0200
TZNAME:CEST
DTSTART:20270328T010000
END:DAYLIGHT
BEGIN:STANDARD
TZOFFSETFROM:+0200
TZOFFSETTO:+0100
TZNAME:CET
DTSTART:20271031T010000
END:STANDARD
END:VTIMEZONE
BEGIN:VEVENT
DTSTART;TZID=Europe/Berlin:20260121T220000
DTEND;TZID=Europe/Berlin:20260121T220000
DTSTAMP:20260424T001905
CREATED:20260101T225158Z
LAST-MODIFIED:20260101T225253Z
UID:43205-1769032800-1769032800@circle-hamburg.com
SUMMARY:ONE LOVE MITTWOCH
DESCRIPTION:Wednesday – ONE LOVEMidweek vibes\, pure energy. 💛ONE LOVE brings you Hip-Hop\, R&B & Afro tunes – the perfect mix to keep the dancefloor alive on a Wednesday night.Good people\, good music\, one love. \nDoors open: 10:00 PM📍 Circle Club Hamburg🎟️ Table reservations: reservierung@circle-hamburg.com
URL:https://circle-hamburg.com/event/one-love-mittwoch-37/
ATTACH;FMTTYPE=image/jpeg:https://circle-hamburg.com/wp-content/uploads/2025/02/ONE_LOVE_EVENTBANNER-scaled.jpg
END:VEVENT
BEGIN:VEVENT
DTSTART;TZID=Europe/Berlin:20260103T230000
DTEND;TZID=Europe/Berlin:20260103T230000
DTSTAMP:20260424T001905
CREATED:20260101T221640Z
LAST-MODIFIED:20260101T221707Z
UID:43166-1767481200-1767481200@circle-hamburg.com
SUMMARY:NEUJAHRSEMPFANG
DESCRIPTION:Saturday\, 03.01 – New Year’s Reception ✨Start the year the right way.Join us for our New Year’s Reception at Circle Club and celebrate the beginning of 2026 in an intimate\, elegant atmosphere. \nOn the decks: LE/ON\, setting the tone for a smooth and energetic night.From 11:00 PM – 12:00 AM enjoy an OPEN BAR with a selection of curated drinks. \nA relaxed start\, great music & the perfect way to welcome the new year.
URL:https://circle-hamburg.com/event/neujahrsempfang/
ATTACH;FMTTYPE=image/jpeg:https://circle-hamburg.com/wp-content/uploads/2026/01/Gross-0301_Eventbanner.jpeg
END:VEVENT
BEGIN:VEVENT
DTSTART;TZID=Europe/Berlin:20260107T220000
DTEND;TZID=Europe/Berlin:20260107T220000
DTSTAMP:20260424T001905
CREATED:20260101T224459Z
LAST-MODIFIED:20260101T224600Z
UID:43199-1767823200-1767823200@circle-hamburg.com
SUMMARY:ONE LOVE MITTWOCH
DESCRIPTION:Wednesday – ONE LOVE Midweek vibes\, pure energy. 💛ONE LOVE brings you House\, R&B & Afro tunes – the perfect mix to keep the dancefloor alive on a Wednesday night.Good people\, good music\, one love. \nDoors open: 10:00 PM📍 Circle Club Hamburg🎟️ Table reservations: reservierung@circle-hamburg.com
URL:https://circle-hamburg.com/event/one-love-mittwoch-35/
ATTACH;FMTTYPE=image/jpeg:https://circle-hamburg.com/wp-content/uploads/2025/04/Gross-ONE_LOVE_EVENTBANNER-1.jpeg
END:VEVENT
BEGIN:VEVENT
DTSTART;TZID=Europe/Berlin:20260109T230000
DTEND;TZID=Europe/Berlin:20260109T230000
DTSTAMP:20260424T001905
CREATED:20260101T222023Z
LAST-MODIFIED:20260101T222045Z
UID:43170-1767999600-1767999600@circle-hamburg.com
SUMMARY:DISCOLICIOUS
DESCRIPTION:Friday\, 09.01 – DISCOLICIOUSFeel-good Friday vibes only. 💜DISCOLICIOUS returns with an open format mix full of energy\, edits & club anthems.On the decks: Henneberg & TYMO\, delivering nonstop movement and pure Friday night atmosphere. \nDoors open: 11:00 PM📍 Circle Club Hamburg🎟️ Table reservations: reservierung@circle-hamburg.com
URL:https://circle-hamburg.com/event/discolicious-13/
ATTACH;FMTTYPE=image/jpeg:https://circle-hamburg.com/wp-content/uploads/2026/01/Gross-0901_Eventbanner.jpeg
END:VEVENT
BEGIN:VEVENT
DTSTART;TZID=Europe/Berlin:20260110T230000
DTEND;TZID=Europe/Berlin:20260110T230000
DTSTAMP:20260424T001905
CREATED:20260101T222325Z
LAST-MODIFIED:20260101T222416Z
UID:43174-1768086000-1768086000@circle-hamburg.com
SUMMARY:BOHEME
DESCRIPTION:Saturday\, 10.01 – BOHÈMEThe first BOHÈME of 2026. ✨Saturday means BOHÈME – deep\, driving & electrifying.This year kicks off with Everest\, delivering hypnotic rhythms\, rolling basslines & pure late-night house energy. \nDoors open: 11:00 PM📍 Circle Club Hamburg🎟️ Table reservations: reservierung@circle-hamburg.com
URL:https://circle-hamburg.com/event/boheme-38/
ATTACH;FMTTYPE=image/jpeg:https://circle-hamburg.com/wp-content/uploads/2026/01/Gross-1001_Eventbanner.jpeg
END:VEVENT
BEGIN:VEVENT
DTSTART;TZID=Europe/Berlin:20260114T220000
DTEND;TZID=Europe/Berlin:20260114T220000
DTSTAMP:20260424T001905
CREATED:20260101T224759Z
LAST-MODIFIED:20260101T224937Z
UID:43202-1768428000-1768428000@circle-hamburg.com
SUMMARY:ONE LOVE MITTWOCH
DESCRIPTION:Wednesday – ONE LOVEMidweek vibes\, pure energy. 💛ONE LOVE brings you Hip-Hop\, R&B & Afro tunes – the perfect mix to keep the dancefloor alive on a Wednesday night.Good people\, good music\, one love. \nDoors open: 10:00 PM📍 Circle Club Hamburg🎟️ Table reservations: reservierung@circle-hamburg.com
URL:https://circle-hamburg.com/event/one-love-mittwoch-36/
ATTACH;FMTTYPE=image/jpeg:https://circle-hamburg.com/wp-content/uploads/2025/02/ONE_LOVE_EVENTBANNER-scaled.jpg
END:VEVENT
BEGIN:VEVENT
DTSTART;TZID=Europe/Berlin:20260116T230000
DTEND;TZID=Europe/Berlin:20260116T230000
DTSTAMP:20260424T001905
CREATED:20260101T222909Z
LAST-MODIFIED:20260101T222935Z
UID:43179-1768604400-1768604400@circle-hamburg.com
SUMMARY:DISCOLICIOUS
DESCRIPTION:Friday\, 16.01 – DISCOLICIOUSFeel-good Friday vibes only. 💜DISCOLICIOUS returns with an open format mix full of energy\, edits & club anthems.On the decks: TYMO & LE/ON\, delivering nonstop movement and pure Friday night atmosphere. \nDoors open: 11:00 PM📍 Circle Club Hamburg🎟️ Table reservations: reservierung@circle-hamburg.com
URL:https://circle-hamburg.com/event/discolicious-14/
ATTACH;FMTTYPE=image/jpeg:https://circle-hamburg.com/wp-content/uploads/2026/01/Gross-1601_Eventbanner.jpeg
END:VEVENT
BEGIN:VEVENT
DTSTART;TZID=Europe/Berlin:20260117T230000
DTEND;TZID=Europe/Berlin:20260117T230000
DTSTAMP:20260424T001905
CREATED:20260101T223141Z
LAST-MODIFIED:20260101T223409Z
UID:43184-1768690800-1768690800@circle-hamburg.com
SUMMARY:BOHÈME
DESCRIPTION:Saturday\, 17.01 – BOHÈMESaturday means BOHÈME – deep\, driving & electrifying.This week with Everest and AMR (Berlin)\, delivering hypnotic grooves\, rolling rhythms & pure house energy all night long. \nDoors open: 11:00 PM📍 Circle Club Hamburg🎟️ Table reservations: reservierung@circle-hamburg.com
URL:https://circle-hamburg.com/event/boheme-39/
ATTACH;FMTTYPE=image/jpeg:https://circle-hamburg.com/wp-content/uploads/2026/01/Gross-1701_Eventbanner.jpeg
END:VEVENT
BEGIN:VEVENT
DTSTART;TZID=Europe/Berlin:20260123T230000
DTEND;TZID=Europe/Berlin:20260123T230000
DTSTAMP:20260424T001905
CREATED:20260101T223641Z
LAST-MODIFIED:20260101T223659Z
UID:43187-1769209200-1769209200@circle-hamburg.com
SUMMARY:DISCOLICOUS
DESCRIPTION:Friday\, 23.01 – DISCOLICIOUSFeel-good Friday vibes only. 💜DISCOLICIOUS returns with an open format night full of energy\, edits & club anthems.On the decks: Le Alen (Gibson Club Frankfurt) & Fewa (PONY Club Sylt\, Berlin-based) – bringing fresh vibes and nonstop movement to the dancefloor. \nDoors open: 11:00 PM📍 Circle Club Hamburg🎟️ Table reservations: reservierung@circle-hamburg.com
URL:https://circle-hamburg.com/event/discolicous-5/
ATTACH;FMTTYPE=image/jpeg:https://circle-hamburg.com/wp-content/uploads/2026/01/Gross-2301_Eventbanner.jpeg
END:VEVENT
BEGIN:VEVENT
DTSTART;TZID=Europe/Berlin:20260124T230000
DTEND;TZID=Europe/Berlin:20260124T230000
DTSTAMP:20260424T001905
CREATED:20260124T084115Z
LAST-MODIFIED:20260124T085525Z
UID:44469-1769295600-1769295600@circle-hamburg.com
SUMMARY:BOHEME
DESCRIPTION:Saturday\, 24.01 – BOHÈMESaturday means BOHÈME – deep\, driving & electrifying.This week with Alexander Zimmermann\, LE/ON & Momoda (Spain)\, delivering hypnotic grooves\, rolling rhythms & pure house energy all night long. \nDoors open: 11:00 PM📍 Circle Club Hamburg🎟️ Table reservations: reservierung@circle-hamburg.com
URL:https://circle-hamburg.com/event/boheme-41/
ATTACH;FMTTYPE=image/jpeg:https://circle-hamburg.com/wp-content/uploads/2026/01/Mittel-2401_Eventbanner-1.jpeg
END:VEVENT
BEGIN:VEVENT
DTSTART;TZID=Europe/Berlin:20260128T220000
DTEND;TZID=Europe/Berlin:20260128T220000
DTSTAMP:20260424T001905
CREATED:20260101T225409Z
LAST-MODIFIED:20260101T225523Z
UID:43208-1769637600-1769637600@circle-hamburg.com
SUMMARY:ONE LOVE MITTWOCH
DESCRIPTION:Wednesday – ONE LOVEMidweek vibes\, pure energy. 💛ONE LOVE brings you Hip-Hop\, R&B & Afro tunes – the perfect mix to keep the dancefloor alive on a Wednesday night.Good people\, good music\, one love. \nDoors open: 10:00 PM📍 Circle Club Hamburg🎟️ Table reservations: reservierung@circle-hamburg.com
URL:https://circle-hamburg.com/event/one-love-mittwoch-38/
ATTACH;FMTTYPE=image/jpeg:https://circle-hamburg.com/wp-content/uploads/2025/02/ONE_LOVE_EVENTBANNER-scaled.jpg
END:VEVENT
BEGIN:VEVENT
DTSTART;TZID=Europe/Berlin:20260130T230000
DTEND;TZID=Europe/Berlin:20260130T230000
DTSTAMP:20260424T001905
CREATED:20260119T153512Z
LAST-MODIFIED:20260120T124107Z
UID:43633-1769814000-1769814000@circle-hamburg.com
SUMMARY:DISCONNECTED presents AJNA [MAGNIFIK] & JUNO
DESCRIPTION:DISCONNECTED presents AJNA [MAGNIFIK] & JUNOpowered by CREAM AGENCY \nDisconnected from the outside. Connected on the dancefloor. 🖤 \nFor the very first time in Hamburg:AJNA\, co-founder of MAGNIFIK alongside SAMM\, makes his Hamburg debut at Circle Club.Known for his melodic & afro house sound\, AJNA delivers deep\, emotional and driving rhythms built for long nights and immersive dancefloors.Joined by JUNO\, completing the journey with warm grooves and modern house vibes. \nSupport: LE/ON & IVY\, setting the tone and guiding the night from start to finish. \nDoors open: 11:00 PM📍 Circle Club Hamburg\nTickets: https://bit.ly/cream3001🎟️ Table reservations: reservierung@circle-hamburg.com
URL:https://circle-hamburg.com/event/disconnected-presents-ajna-magnifik-juno/
ATTACH;FMTTYPE=image/jpeg:https://circle-hamburg.com/wp-content/uploads/2026/01/Disconnected_circle_3001_FB-Flyer_3.jpg
END:VEVENT
BEGIN:VEVENT
DTSTART;TZID=Europe/Berlin:20260131T230000
DTEND;TZID=Europe/Berlin:20260131T230000
DTSTAMP:20260424T001905
CREATED:20260101T224048Z
LAST-MODIFIED:20260101T224201Z
UID:43195-1769900400-1769900400@circle-hamburg.com
SUMMARY:BOHÈME
DESCRIPTION:Saturday\, 31.01 – BOHÈMESaturday means BOHÈME – deep\, driving & electrifying.This week with Everest\, delivering hypnotic rhythms\, rolling basslines & pure late-night house energy to close out the month in style. \nDoors open: 11:00 PM📍 Circle Club Hamburg🎟️ Table reservations: reservierung@circle-hamburg.com
URL:https://circle-hamburg.com/event/boheme-40/
ATTACH;FMTTYPE=image/jpeg:https://circle-hamburg.com/wp-content/uploads/2026/01/Gross-3101_Eventbanner-1.jpeg
END:VEVENT
END:VCALENDAR