BEGIN:VCALENDAR
VERSION:2.0
PRODID:-//Circle Club Winterhude - ECPv6.15.18//NONSGML v1.0//EN
CALSCALE:GREGORIAN
METHOD:PUBLISH
X-WR-CALNAME:Circle Club Winterhude
X-ORIGINAL-URL:https://circle-hamburg.com
X-WR-CALDESC:Veranstaltungen für Circle Club Winterhude
REFRESH-INTERVAL;VALUE=DURATION:PT1H
X-Robots-Tag:noindex
X-PUBLISHED-TTL:PT1H
BEGIN:VTIMEZONE
TZID:Europe/Berlin
BEGIN:DAYLIGHT
TZOFFSETFROM:+0100
TZOFFSETTO:+0200
TZNAME:CEST
DTSTART:20240331T010000
END:DAYLIGHT
BEGIN:STANDARD
TZOFFSETFROM:+0200
TZOFFSETTO:+0100
TZNAME:CET
DTSTART:20241027T010000
END:STANDARD
BEGIN:DAYLIGHT
TZOFFSETFROM:+0100
TZOFFSETTO:+0200
TZNAME:CEST
DTSTART:20250330T010000
END:DAYLIGHT
BEGIN:STANDARD
TZOFFSETFROM:+0200
TZOFFSETTO:+0100
TZNAME:CET
DTSTART:20251026T010000
END:STANDARD
BEGIN:DAYLIGHT
TZOFFSETFROM:+0100
TZOFFSETTO:+0200
TZNAME:CEST
DTSTART:20260329T010000
END:DAYLIGHT
BEGIN:STANDARD
TZOFFSETFROM:+0200
TZOFFSETTO:+0100
TZNAME:CET
DTSTART:20261025T010000
END:STANDARD
END:VTIMEZONE
BEGIN:VEVENT
DTSTART;TZID=Europe/Berlin:20250801T220000
DTEND;TZID=Europe/Berlin:20250801T220000
DTSTAMP:20260424T092719
CREATED:20250730T085148Z
LAST-MODIFIED:20250730T085438Z
UID:41039-1754085600-1754085600@circle-hamburg.com
SUMMARY:DISCOLICIOUS pres. INTO THE CLOUDS
DESCRIPTION:☁️ DISCOLICIOUS pres. INTO THE CLOUDSFriday\, August 1 | Circle Club \nUsually above the skyline – this time deep in the heart of the city.For the first time ever\, the iconic INTO THE CLOUDS event from the Clouds – Tanzende Türme comes down to Circle Club for a night full of high spirits and elevated sound. \nOn the decks:Jamek Ortega – groove-heavy\, crowd-ready.JUNO – fresh\, dynamic\, and always one step ahead. \nExpect nothing less than a sky-high vibe – even without the altitude. \nDoors open: 10:00 PM📍 Circle Club Hamburg🎟️ Table reservations: reservierung@circle-hamburg.com
URL:https://circle-hamburg.com/event/discolicious-pres-into-the-clouds/
ATTACH;FMTTYPE=image/jpeg:https://circle-hamburg.com/wp-content/uploads/2025/07/Gross-0108_Eventbanner.jpeg
END:VEVENT
BEGIN:VEVENT
DTSTART;TZID=Europe/Berlin:20250802T220000
DTEND;TZID=Europe/Berlin:20250802T220000
DTSTAMP:20260424T092719
CREATED:20250730T085832Z
LAST-MODIFIED:20250730T090034Z
UID:41042-1754172000-1754172000@circle-hamburg.com
SUMMARY:BOHEME
DESCRIPTION:🌙 BOHÈME – Saturday\, August 2 | Circle ClubRhythm\, elegance\, and raw energy. \nThis Saturday\, we welcome ZOKII to the Circle for the very first time – bringing fresh energy and deep\, driving house sounds.Alongside him\, Paul Kold\, delivering his signature grooves and hypnotic momentum on the dancefloor. \nA night where the music speaks louder than words.No compromises. Just rhythm. \nDoors open: 10:00 PM📍 Circle Club Hamburg🎟️ Table reservations: reservierung@circle-hamburg.com
URL:https://circle-hamburg.com/event/boheme-22/
ATTACH;FMTTYPE=image/jpeg:https://circle-hamburg.com/wp-content/uploads/2025/07/Gross-0208.jpeg
END:VEVENT
BEGIN:VEVENT
DTSTART;TZID=Europe/Berlin:20250806T220000
DTEND;TZID=Europe/Berlin:20250806T220000
DTSTAMP:20260424T092719
CREATED:20250730T132058Z
LAST-MODIFIED:20250730T132122Z
UID:41065-1754517600-1754517600@circle-hamburg.com
SUMMARY:ONE LOVE MITTWOCH
DESCRIPTION:💜 ONE LOVE – Every Wednesday | Circle ClubMidweek magic\, made for the ones who feel the night. \nHouse\, Afro House & Charts – a sound blend that brings all the right people to one floor.Midweek never felt so right.No compromises. Just connection. \nDoors open: 10:00 PM📍 Circle Club Hamburg🎟️ Table reservations: reservierung@circle-hamburg.com \nSame vibe. Same love. Every Wednesday.
URL:https://circle-hamburg.com/event/one-love-mittwoch-14/
ATTACH;FMTTYPE=image/jpeg:https://circle-hamburg.com/wp-content/uploads/2025/04/Gross-ONE_LOVE_EVENTBANNER-1.jpeg
END:VEVENT
BEGIN:VEVENT
DTSTART;TZID=Europe/Berlin:20250808T220000
DTEND;TZID=Europe/Berlin:20250808T220000
DTSTAMP:20260424T092719
CREATED:20250730T092641Z
LAST-MODIFIED:20250730T114125Z
UID:41045-1754690400-1754690400@circle-hamburg.com
SUMMARY:CHICKS GONE WILDER pres. ST TROPEZ WHITE PARTY
DESCRIPTION:🤍 CHICKS GONE WILDER – St. Tropez White PartyFriday\, August 8 | Circle Club \nSun-kissed vibes\, sparkling nights & all white everything.This Friday\, we bring the spirit of St. Tropez to Hamburg with our exclusive White Party edition of CHICKS GONE WILDER. \n✨ Dress in white and step into a night full of elegance\, rhythm\, and champagne-fueled fun. \n🎧 Music by Tymo & Two of You – delivering feel-good sounds and summer energy all night long. \nDoors open: 10:00 PM📍 Circle Club Hamburg🎟️ Table reservations: reservierung@circle-hamburg.com \nLet’s go wilder – St. Tropez style.
URL:https://circle-hamburg.com/event/chicks-gone-wilder-pres-st-tropez-white-party/
ATTACH;FMTTYPE=image/jpeg:https://circle-hamburg.com/wp-content/uploads/2025/07/Gross-Eventbanner_0808.jpeg
END:VEVENT
BEGIN:VEVENT
DTSTART;TZID=Europe/Berlin:20250809T220000
DTEND;TZID=Europe/Berlin:20250809T220000
DTSTAMP:20260424T092719
CREATED:20250730T124418Z
LAST-MODIFIED:20250730T124455Z
UID:41052-1754776800-1754776800@circle-hamburg.com
SUMMARY:BOHEME SPECIAL w/ MCFLY
DESCRIPTION:🌙 BOHÈME – Saturday\, August 9 | Circle ClubPure rhythm. Raw elegance. One uncompromising night. \nFor the first time at Circle: MC FLY – known for his hypnotic sets at Blue Marlin Ibiza\, Pacha Munich\, Ritter Butzkeand Tulum.Expect a deep and driving journey through the finest sounds of the underground. \nOn support: our very own Everest\, delivering that unmistakable BOHÈME energy to set the tone. \nDoors open: 10:00 PM📍 Circle Club Hamburg🎟️ Table reservations: reservierung@circle-hamburg.com
URL:https://circle-hamburg.com/event/boheme-special-w-mcfly/
ATTACH;FMTTYPE=image/jpeg:https://circle-hamburg.com/wp-content/uploads/2025/07/Gross-0908_Eventbanner.jpeg
END:VEVENT
BEGIN:VEVENT
DTSTART;TZID=Europe/Berlin:20250813T220000
DTEND;TZID=Europe/Berlin:20250813T220000
DTSTAMP:20260424T092719
CREATED:20250730T132214Z
LAST-MODIFIED:20250730T132226Z
UID:41067-1755122400-1755122400@circle-hamburg.com
SUMMARY:ONE LOVE MITTWOCH
DESCRIPTION:💜 ONE LOVE – Every Wednesday | Circle ClubMidweek magic\, made for the ones who feel the night. \nHouse\, Afro House & Charts – a sound blend that brings all the right people to one floor.Midweek never felt so right.No compromises. Just connection. \nDoors open: 10:00 PM📍 Circle Club Hamburg🎟️ Table reservations: reservierung@circle-hamburg.com \nSame vibe. Same love. Every Wednesday.
URL:https://circle-hamburg.com/event/one-love-mittwoch-15/
ATTACH;FMTTYPE=image/jpeg:https://circle-hamburg.com/wp-content/uploads/2025/04/Gross-ONE_LOVE_EVENTBANNER-1.jpeg
END:VEVENT
BEGIN:VEVENT
DTSTART;TZID=Europe/Berlin:20250816T220000
DTEND;TZID=Europe/Berlin:20250816T220000
DTSTAMP:20260424T092719
CREATED:20250730T125552Z
LAST-MODIFIED:20250730T125841Z
UID:41055-1755381600-1755381600@circle-hamburg.com
SUMMARY:BOHEME
DESCRIPTION:🌙 BOHÈME – Saturday\, August 16 | Circle ClubSaturdays without compromise – rhythm-driven\, elegant\, and raw. \nThis week\, we welcome back AMR from Berlin – known for his deep\, percussive house sets that captivate the floor.Alongside him: LE/ON\, bringing his signature groove and timeless energy. \nA night for those who dance with their eyes closed.This is BOHÈME. \nDoors open: 10:00 PM📍 Circle Club Hamburg🎟️ Table reservations: reservierung@circle-hamburg.com
URL:https://circle-hamburg.com/event/boheme-23/
ATTACH;FMTTYPE=image/jpeg:https://circle-hamburg.com/wp-content/uploads/2025/07/Gross-1608_Eventbanner.jpeg
END:VEVENT
BEGIN:VEVENT
DTSTART;TZID=Europe/Berlin:20250820T220000
DTEND;TZID=Europe/Berlin:20250820T220000
DTSTAMP:20260424T092719
CREATED:20250730T132333Z
LAST-MODIFIED:20250730T132348Z
UID:41069-1755727200-1755727200@circle-hamburg.com
SUMMARY:ONE LOVE MITTWOCH
DESCRIPTION:💜 ONE LOVE – Every Wednesday | Circle ClubMidweek magic\, made for the ones who feel the night. \nHouse\, Afro House & Charts – a sound blend that brings all the right people to one floor.Midweek never felt so right.No compromises. Just connection. \nDoors open: 10:00 PM📍 Circle Club Hamburg🎟️ Table reservations: reservierung@circle-hamburg.com \nSame vibe. Same love. Every Wednesday.
URL:https://circle-hamburg.com/event/one-love-mittwoch-16/
ATTACH;FMTTYPE=image/jpeg:https://circle-hamburg.com/wp-content/uploads/2025/04/Gross-ONE_LOVE_EVENTBANNER-1.jpeg
END:VEVENT
BEGIN:VEVENT
DTSTART;TZID=Europe/Berlin:20250823T220000
DTEND;TZID=Europe/Berlin:20250823T220000
DTSTAMP:20260424T092719
CREATED:20250730T131410Z
LAST-MODIFIED:20250730T131454Z
UID:41058-1755986400-1755986400@circle-hamburg.com
SUMMARY:BOHEME
DESCRIPTION:🌙 BOHÈME – Saturday\, August 23 | Circle ClubDeep grooves. Intimate energy. BOHÈME every Saturday. \nThis week with Paul Kold\, delivering hypnotic rhythms and a flow that moves you from the inside out.Come for the sound. Stay for the state of mind. \nDoors open: 10:00 PM📍 Circle Club Hamburg🎟️ Table reservations: reservierung@circle-hamburg.com
URL:https://circle-hamburg.com/event/boheme-24/
ATTACH;FMTTYPE=image/jpeg:https://circle-hamburg.com/wp-content/uploads/2025/07/Gross-2308_Eventbanner.jpeg
END:VEVENT
BEGIN:VEVENT
DTSTART;TZID=Europe/Berlin:20250827T220000
DTEND;TZID=Europe/Berlin:20250827T220000
DTSTAMP:20260424T092719
CREATED:20250730T132434Z
LAST-MODIFIED:20250730T132445Z
UID:41071-1756332000-1756332000@circle-hamburg.com
SUMMARY:ONE LOVE MITTWOCH
DESCRIPTION:💜 ONE LOVE – Every Wednesday | Circle ClubMidweek magic\, made for the ones who feel the night. \nHouse\, Afro House & Charts – a sound blend that brings all the right people to one floor.Midweek never felt so right.No compromises. Just connection. \nDoors open: 10:00 PM📍 Circle Club Hamburg🎟️ Table reservations: reservierung@circle-hamburg.com \nSame vibe. Same love. Every Wednesday.
URL:https://circle-hamburg.com/event/one-love-mittwoch-17/
ATTACH;FMTTYPE=image/jpeg:https://circle-hamburg.com/wp-content/uploads/2025/04/Gross-ONE_LOVE_EVENTBANNER-1.jpeg
END:VEVENT
BEGIN:VEVENT
DTSTART;TZID=Europe/Berlin:20250830T220000
DTEND;TZID=Europe/Berlin:20250830T220000
DTSTAMP:20260424T092719
CREATED:20250730T132639Z
LAST-MODIFIED:20250731T105439Z
UID:41074-1756591200-1756591200@circle-hamburg.com
SUMMARY:BOHEME
DESCRIPTION:🌙 BOHÈME – Saturday\, August 30 | Circle ClubNo compromises. Just rhythm. \nBerlin’s AMR returns to BOHÈME for a night of deep percussion\, warm melodies\, and a dancefloor journey that hits differently.If you know\, you know. \nDoors open: 10:00 PM📍 Circle Club Hamburg🎟️ Table reservations: reservierung@circle-hamburg.com
URL:https://circle-hamburg.com/event/boheme-26/
ATTACH;FMTTYPE=image/jpeg:https://circle-hamburg.com/wp-content/uploads/2025/07/Gross-3008_Eventbanner-1.jpeg
END:VEVENT
END:VCALENDAR