BEGIN:VCALENDAR
VERSION:2.0
PRODID:-//Circle Club Winterhude - ECPv6.15.18//NONSGML v1.0//EN
CALSCALE:GREGORIAN
METHOD:PUBLISH
X-WR-CALNAME:Circle Club Winterhude
X-ORIGINAL-URL:https://circle-hamburg.com
X-WR-CALDESC:Veranstaltungen für Circle Club Winterhude
REFRESH-INTERVAL;VALUE=DURATION:PT1H
X-Robots-Tag:noindex
X-PUBLISHED-TTL:PT1H
BEGIN:VTIMEZONE
TZID:Europe/Berlin
BEGIN:DAYLIGHT
TZOFFSETFROM:+0100
TZOFFSETTO:+0200
TZNAME:CEST
DTSTART:20240331T010000
END:DAYLIGHT
BEGIN:STANDARD
TZOFFSETFROM:+0200
TZOFFSETTO:+0100
TZNAME:CET
DTSTART:20241027T010000
END:STANDARD
BEGIN:DAYLIGHT
TZOFFSETFROM:+0100
TZOFFSETTO:+0200
TZNAME:CEST
DTSTART:20250330T010000
END:DAYLIGHT
BEGIN:STANDARD
TZOFFSETFROM:+0200
TZOFFSETTO:+0100
TZNAME:CET
DTSTART:20251026T010000
END:STANDARD
BEGIN:DAYLIGHT
TZOFFSETFROM:+0100
TZOFFSETTO:+0200
TZNAME:CEST
DTSTART:20260329T010000
END:DAYLIGHT
BEGIN:STANDARD
TZOFFSETFROM:+0200
TZOFFSETTO:+0100
TZNAME:CET
DTSTART:20261025T010000
END:STANDARD
END:VTIMEZONE
BEGIN:VEVENT
DTSTART;TZID=Europe/Berlin:20250606T220000
DTEND;TZID=Europe/Berlin:20250606T220000
DTSTAMP:20260424T132004
CREATED:20250526T220837Z
LAST-MODIFIED:20250526T220953Z
UID:40647-1749247200-1749247200@circle-hamburg.com
SUMMARY:DISCOLICIOUS
DESCRIPTION:🪩 DISCOLICIOUS – Friday\, June 6 | Circle ClubFeel-good Friday is calling. \nThis Friday\, LE/ON brings his signature style to DISCOLICIOUS – a night full of open format sounds\, uplifting energy and dancefloor favorites. From throwback anthems to fresh edits\, this is the soundtrack to your weekend kickoff. \nDoors open: 10:00 PM📍 Circle Club Hamburg🎟️ Table reservations: reservierung@circle-hamburg.com \nIt’s Friday. It’s DISCOLICIOUS. Let’s dance.
URL:https://circle-hamburg.com/event/discolicious-7/
ATTACH;FMTTYPE=image/jpeg:https://circle-hamburg.com/wp-content/uploads/2025/05/Gross-0606_Eventbanner.jpeg
END:VEVENT
BEGIN:VEVENT
DTSTART;TZID=Europe/Berlin:20250607T220000
DTEND;TZID=Europe/Berlin:20250607T220000
DTSTAMP:20260424T132004
CREATED:20250526T222531Z
LAST-MODIFIED:20250526T222540Z
UID:40656-1749333600-1749333600@circle-hamburg.com
SUMMARY:BOHEME
DESCRIPTION:🌙 BOHÈME – Saturday\, June 7 | Circle ClubDeep sounds. Timeless rhythm. Pure BOHÈME. \nOn Saturday\, June 7\, Paul Kold brings his signature groove to the Circle dancefloor. Expect a night of deep\, driving House and hypnotic Afro House – crafted for those who feel the night in every beat. \nNo compromises. Just rhythm\, soul\, and the freedom to let go. \nDoors open: 10:00 PM📍 Circle Club Hamburg🎟️ Table reservations: reservierung@circle-hamburg.com \nBOHÈME – your Saturday sanctuary of sound.
URL:https://circle-hamburg.com/event/boheme-15/
ATTACH;FMTTYPE=image/jpeg:https://circle-hamburg.com/wp-content/uploads/2025/05/Gross-Boheme_0706.jpeg
END:VEVENT
BEGIN:VEVENT
DTSTART;TZID=Europe/Berlin:20250620T220000
DTEND;TZID=Europe/Berlin:20250620T220000
DTSTAMP:20260424T132004
CREATED:20250526T221348Z
LAST-MODIFIED:20250526T221956Z
UID:40653-1750456800-1750456800@circle-hamburg.com
SUMMARY:DISCOLICIOUS
DESCRIPTION:🪩 DISCOLICIOUS – Friday\, June 20 | Circle ClubNew music. Same madness. All DISCOLICIOUS. \nThis Friday\, JUNO returns to the Circle booth – fresh off his latest release with Magnifik – and brings that momentum straight to the floor. Together with TYMO\, they’ll deliver an open format set full of energy\, edits & dancefloor heat. \nCome celebrate the vibe\, the music\, and a DJ on the rise. \nDoors open: 10:00 PM📍 Circle Club Hamburg🎟️ Table reservations: reservierung@circle-hamburg.com \nBig tunes. Big moves. DISCOLICIOUS.
URL:https://circle-hamburg.com/event/discolicious-9/
ATTACH;FMTTYPE=image/jpeg:https://circle-hamburg.com/wp-content/uploads/2025/05/Gross-2006_Eventbanner.jpeg
END:VEVENT
BEGIN:VEVENT
DTSTART;TZID=Europe/Berlin:20250621T220000
DTEND;TZID=Europe/Berlin:20250621T220000
DTSTAMP:20260424T132004
CREATED:20250526T222755Z
LAST-MODIFIED:20250617T161928Z
UID:40659-1750543200-1750543200@circle-hamburg.com
SUMMARY:BOHEME
DESCRIPTION:🌙 BOHÈME – Saturday\, June 21 | Circle ClubWhere rhythm flows and the night feels infinite. \nOn Saturday\, June 21\, Paul Kold and LE/ON join forces behind the decks to deliver a night full of deep\, soulful Houseand electrifying Afro House. Two artists\, one sound journey – crafted for those who live for the beat. \nLose yourself. Move with purpose. This is BOHÈME. \nDoors open: 10:00 PM📍 Circle Club Hamburg🎟️ Table reservations: reservierung@circle-hamburg.com \nEvery Saturday has a rhythm. BOHÈME is ours.
URL:https://circle-hamburg.com/event/boheme-16/
ATTACH;FMTTYPE=image/jpeg:https://circle-hamburg.com/wp-content/uploads/2025/05/Gross-Boheme_2106.jpeg
END:VEVENT
BEGIN:VEVENT
DTSTART;TZID=Europe/Berlin:20250627T220000
DTEND;TZID=Europe/Berlin:20250627T220000
DTSTAMP:20260424T132004
CREATED:20250617T162844Z
LAST-MODIFIED:20250617T163046Z
UID:40791-1751061600-1751061600@circle-hamburg.com
SUMMARY:DISCOLICOUS pres. UVITA [UK]
DESCRIPTION:Friday\, June 27 — UVITA [UK] at Circle ClubRising UK producer UVITA is making his Hamburg debut at Circle Club!Known for his deep\, melodic sound and standout releases like “Makalu” and “AGAMA”\, UVITA is quickly becoming a name to watch in the international house scene. \nAfter performing alongside acts like Bedouin\, he’s now bringing his hypnotic energy to our peak-time slot. \n🔊 Melodic. Driving. Emotional.🕒 Doors: 11 PM\nTable: reservierung@circle-hamburg.com
URL:https://circle-hamburg.com/event/discolicous-pres-uvita-uk/
ATTACH;FMTTYPE=image/jpeg:https://circle-hamburg.com/wp-content/uploads/2025/06/WhatsApp-Image-2025-06-03-at-13.52.52.jpeg
END:VEVENT
BEGIN:VEVENT
DTSTART;TZID=Europe/Berlin:20250628T220000
DTEND;TZID=Europe/Berlin:20250628T220000
DTSTAMP:20260424T132004
CREATED:20250526T223000Z
LAST-MODIFIED:20250526T223407Z
UID:40662-1751148000-1751148000@circle-hamburg.com
SUMMARY:BOHEME
DESCRIPTION:🌙 BOHÈME – Saturday\, June 28 | Circle ClubOne night. One sound. One BOHÈME. \nThis Saturday is special:Everest\, our trusted resident\, returns for his only BOHÈME set this month – joined by AMR from Berlin. \nExpect deep\, driving House and hypnotic Afro House – raw\, soulful\, and built for the night.A rare combo\, a one-night-only energy. \nDoors open: 10:00 PM📍 Circle Club Hamburg🎟️ Table reservations: reservierung@circle-hamburg.com \nBOHÈME – your monthly rhythm reset.
URL:https://circle-hamburg.com/event/boheme-17/
ATTACH;FMTTYPE=image/jpeg:https://circle-hamburg.com/wp-content/uploads/2025/05/Gross-Boheme_2806.jpeg
END:VEVENT
END:VCALENDAR