BEGIN:VCALENDAR
VERSION:2.0
PRODID:-//Circle Club Winterhude - ECPv6.15.18//NONSGML v1.0//EN
CALSCALE:GREGORIAN
METHOD:PUBLISH
X-ORIGINAL-URL:https://circle-hamburg.com
X-WR-CALDESC:Veranstaltungen für Circle Club Winterhude
REFRESH-INTERVAL;VALUE=DURATION:PT1H
X-Robots-Tag:noindex
X-PUBLISHED-TTL:PT1H
BEGIN:VTIMEZONE
TZID:UTC
BEGIN:STANDARD
TZOFFSETFROM:+0000
TZOFFSETTO:+0000
TZNAME:UTC
DTSTART:20240101T000000
END:STANDARD
END:VTIMEZONE
BEGIN:VTIMEZONE
TZID:Europe/Berlin
BEGIN:DAYLIGHT
TZOFFSETFROM:+0100
TZOFFSETTO:+0200
TZNAME:CEST
DTSTART:20240331T010000
END:DAYLIGHT
BEGIN:STANDARD
TZOFFSETFROM:+0200
TZOFFSETTO:+0100
TZNAME:CET
DTSTART:20241027T010000
END:STANDARD
BEGIN:DAYLIGHT
TZOFFSETFROM:+0100
TZOFFSETTO:+0200
TZNAME:CEST
DTSTART:20250330T010000
END:DAYLIGHT
BEGIN:STANDARD
TZOFFSETFROM:+0200
TZOFFSETTO:+0100
TZNAME:CET
DTSTART:20251026T010000
END:STANDARD
BEGIN:DAYLIGHT
TZOFFSETFROM:+0100
TZOFFSETTO:+0200
TZNAME:CEST
DTSTART:20260329T010000
END:DAYLIGHT
BEGIN:STANDARD
TZOFFSETFROM:+0200
TZOFFSETTO:+0100
TZNAME:CET
DTSTART:20261025T010000
END:STANDARD
END:VTIMEZONE
BEGIN:VEVENT
DTSTART;TZID=UTC:20250402T220000
DTEND;TZID=UTC:20250402T220000
DTSTAMP:20260424T213222
CREATED:20250226T144636Z
LAST-MODIFIED:20250305T180308Z
UID:39729-1743631200-1743631200@circle-hamburg.com
SUMMARY:ONE LOVE MITTWOCH
DESCRIPTION:
URL:https://circle-hamburg.com/event/one-love-mittwoch-2025-04-02/
CATEGORIES:events
ATTACH;FMTTYPE=image/jpeg:https://circle-hamburg.com/wp-content/uploads/2025/02/ONE_LOVE_EVENTBANNER-scaled.jpg
END:VEVENT
BEGIN:VEVENT
DTSTART;TZID=Europe/Berlin:20250404T220000
DTEND;TZID=Europe/Berlin:20250404T220000
DTSTAMP:20260424T213222
CREATED:20250324T135939Z
LAST-MODIFIED:20250401T092920Z
UID:40138-1743804000-1743804000@circle-hamburg.com
SUMMARY:DISCOLICIOUS
DESCRIPTION:🔥 THIS FRIDAY: DISCOLICIOUS – APRIL 4TH 🔥 \nNew month\, same mission: good vibes only.This Friday\, DISCOLICIOUS brings the energy back to the floor – easy\, stylish\, unforgettable. \n🎶 Music by DJ Fewa – smooth transitions\, unexpected twists\, and all the feel-good tunes to keep you going. \nNo pressure\, just presence. Come as you are\, dance as you feel. \n💥 Start April right – on the dancefloor.
URL:https://circle-hamburg.com/event/discolicious-2/
CATEGORIES:events
ATTACH;FMTTYPE=image/jpeg:https://circle-hamburg.com/wp-content/uploads/2025/03/0404_Eventbanner.jpg
END:VEVENT
BEGIN:VEVENT
DTSTART;TZID=Europe/Berlin:20250405T220000
DTEND;TZID=Europe/Berlin:20250405T220000
DTSTAMP:20260424T213222
CREATED:20250324T140514Z
LAST-MODIFIED:20250401T092851Z
UID:40145-1743890400-1743890400@circle-hamburg.com
SUMMARY:BOHEME
DESCRIPTION:🔥 THIS SATURDAY: BOHÈME – APRIL 5TH 🔥 \nSaturdays in Winterhude have a new rhythm. BOHÈME stands for elegance\, energy\, and deep\, electrifying soundscapes that move the night. 🖤 \n🎶 Music by AMR (Berlin) & Elias Everest – a powerful blend of House & Afro House\, curated to take you deeper into the night. \nA night for the bold\, the effortless\, the ones who know:Every Saturday. No limits\, just rhythm. 🪶 \n💥 Experience it or hear about it later.
URL:https://circle-hamburg.com/event/boheme/
CATEGORIES:events
ATTACH;FMTTYPE=image/jpeg:https://circle-hamburg.com/wp-content/uploads/2025/03/Boheme_0504_Eventbanner.jpg
END:VEVENT
BEGIN:VEVENT
DTSTART;TZID=Europe/Berlin:20250411T220000
DTEND;TZID=Europe/Berlin:20250411T220000
DTSTAMP:20260424T213222
CREATED:20250324T142103Z
LAST-MODIFIED:20250401T092813Z
UID:40163-1744408800-1744408800@circle-hamburg.com
SUMMARY:DISCOLICIOUS
DESCRIPTION:🔥 THIS FRIDAY: DISCOLICIOUS – APRIL 11TH 🔥 \nBack on the floor with that feel-good energy. DISCOLICIOUS returns this FRIDAY with a night that’s all about movement\, moments & music that just feels right. \n🎶 DJs Tymo & LE/ON – serving the sounds to keep you in motion all night long. \nCome through for good people\, great energy\, and a night you’ll want to replay in your head. \n💥 No stress\, just vibes.
URL:https://circle-hamburg.com/event/discolicious-3/
CATEGORIES:events
ATTACH;FMTTYPE=image/jpeg:https://circle-hamburg.com/wp-content/uploads/2025/03/Discolicious_1104_Eventbanner-1.jpg
END:VEVENT
BEGIN:VEVENT
DTSTART;TZID=Europe/Berlin:20250412T220000
DTEND;TZID=Europe/Berlin:20250412T220000
DTSTAMP:20260424T213222
CREATED:20250324T141047Z
LAST-MODIFIED:20250401T092741Z
UID:40151-1744495200-1744495200@circle-hamburg.com
SUMMARY:BOHEME
DESCRIPTION:🔥 THIS SATURDAY: BOHÈME – APRIL 12TH 🔥 \nBOHÈME means rhythm\, energy\, and unexpected moments. This week\, we hand the night over to Jamek Ortega & Friends – bringing their unique vibe and signature sound to the floor. \n🎶 From deep grooves to hypnotic House – expect the unexpected. \nEvery Saturday. No limits\, just rhythm. 🖤🪶 \n💥 Experience it or hear about it later.
URL:https://circle-hamburg.com/event/boheme-5/
CATEGORIES:events
ATTACH;FMTTYPE=image/jpeg:https://circle-hamburg.com/wp-content/uploads/2025/03/Boheme_1204_Eventbanner.jpg
END:VEVENT
BEGIN:VEVENT
DTSTART;TZID=Europe/Berlin:20250416T220000
DTEND;TZID=Europe/Berlin:20250416T220000
DTSTAMP:20260424T213222
CREATED:20250409T111625Z
LAST-MODIFIED:20250409T111712Z
UID:40345-1744840800-1744840800@circle-hamburg.com
SUMMARY:ONE LOVE MITTWOCH
DESCRIPTION:ONE LOVE – Every Wednesday | Circle ClubOne night. One vibe. One Love. \nEvery Wednesday\, Circle Club belongs to ONE LOVE – your new midweek escape.Feel the best mix of House\, Afro House\, and Charts. Fresh beats\, good people\, and a night that feels like the weekend came early. \nDoors open: 10:00 PMHouse | Afro House | ChartsPure midweek energy. \nONE LOVE – where rhythm and good vibes meet\, every Wednesday.
URL:https://circle-hamburg.com/event/one-love-mittwoch-2/
ATTACH;FMTTYPE=image/jpeg:https://circle-hamburg.com/wp-content/uploads/2025/04/Gross-ONE_LOVE_EVENTBANNER-1.jpeg
END:VEVENT
BEGIN:VEVENT
DTSTART;TZID=Europe/Berlin:20250417T220000
DTEND;TZID=Europe/Berlin:20250417T220000
DTSTAMP:20260424T213222
CREATED:20250403T070027Z
LAST-MODIFIED:20250403T100929Z
UID:40271-1744927200-1744927200@circle-hamburg.com
SUMMARY:DEJA VU
DESCRIPTION:🔮 DEJA VU – Thursday\, April 17 | Circle ClubA night like back in the day – only better. 🕺🎶Welcome to DEJA VU\, our very first 80s & 90s party at Circle Club – packed with throwbacks\, iconic sounds\, and pure nostalgic vibes. \n✨ And the best part? It’s Maundy Thursday – the next day is a holiday! No work\, just play. \n🎧 On the decks: DJ DAZZ – spinning the ultimate throwback anthems from Michael Jackson to Britney\, from Snap! to TLC.If you lived through the 80s & 90s\, you’ll be dancing. If you didn’t – you’ll wish you had. \n💿 All-out nostalgia\, bold outfits encouraged\, and dancing absolutely required.Let’s rewind the time – just for one night.
URL:https://circle-hamburg.com/event/deja-vu/
CATEGORIES:events
ATTACH;FMTTYPE=image/jpeg:https://circle-hamburg.com/wp-content/uploads/2025/04/Gross-1704_Eventbanner.jpeg
END:VEVENT
BEGIN:VEVENT
DTSTART;TZID=Europe/Berlin:20250418T220000
DTEND;TZID=Europe/Berlin:20250418T220000
DTSTAMP:20260424T213222
CREATED:20250405T115605Z
LAST-MODIFIED:20250405T115619Z
UID:40306-1745013600-1745013600@circle-hamburg.com
SUMMARY:DISCOLICIOUS
DESCRIPTION:🪩 DISCOLICIOUS – Friday\, April 18 | Circle ClubGood vibes only – even on Good Friday! 🎉 \nOn April 18\, we’re bringing you a special edition of DISCOLICIOUS with DJ Dazz and LE/ON behind the decks.Yes\, it’s Good Friday – but don’t worry: The music will play as usual! 🎶 \nGet ready for a night full of open format sounds – from funky classics to fresh hits.Perfect for everyone who’s up for a long night\, cold drinks\, and hot beats.
URL:https://circle-hamburg.com/event/discolicious-4/
ATTACH;FMTTYPE=image/jpeg:https://circle-hamburg.com/wp-content/uploads/2025/04/Gross-Discolicious_1804_Eventbanner.jpeg
END:VEVENT
BEGIN:VEVENT
DTSTART;TZID=Europe/Berlin:20250419T220000
DTEND;TZID=Europe/Berlin:20250419T220000
DTSTAMP:20260424T213222
CREATED:20250324T141354Z
LAST-MODIFIED:20250401T092710Z
UID:40156-1745100000-1745100000@circle-hamburg.com
SUMMARY:BOHEME
DESCRIPTION:🔥 THIS SATURDAY: BOHÈME – APRIL 19TH 🔥 \nTwo worlds\, one sound. This Saturday\, Elias Everest meets Salvatore from Paradise Now (Düsseldorf) – combining northern drive with western soul. \n🎶 A night of deep\, driving House & Afro House – curated for those who come for the music. \nEvery Saturday. No limits\, just rhythm. 🖤🪶 \n💥 Experience it or hear about it later.
URL:https://circle-hamburg.com/event/boheme-6/
CATEGORIES:events
ATTACH;FMTTYPE=image/jpeg:https://circle-hamburg.com/wp-content/uploads/2025/03/Boheme_1904_Eventbanner-1.jpg
END:VEVENT
BEGIN:VEVENT
DTSTART;TZID=Europe/Berlin:20250420T220000
DTEND;TZID=Europe/Berlin:20250420T220000
DTSTAMP:20260424T213222
CREATED:20250409T105532Z
LAST-MODIFIED:20250409T105532Z
UID:40331-1745186400-1745186400@circle-hamburg.com
SUMMARY:Chefs Night Out x Spaccaforno 🍷🍕
DESCRIPTION:🍕 Chefs Night Out x Spaccaforno 🍷Eat well. Dance even better. \nOn Easter Sunday\, April 20\, we’re inviting you to a very special night: First\, enjoy the best Neapolitan pizza in Hamburg at Spaccaforno – then party into the early morning hours at Circle Club. \nAnd the best part? Monday is a public holiday – so you can party without worrying about work! 🎉 \n🔹 Dinner @ SpaccafornoAuthentic pizza\, fine wine\, and a night among friends.Guests who dine at Spaccaforno enjoy free entry to the party at Circle! 🎟️ \nMenu:•⁠ ⁠Mixed antipasti to share•⁠ ⁠Pizza served family style in the middle (with options like truffle\, beef tartare\, and all the classics)•⁠ ⁠Dessert following the same sharing concept \n💰 €45.00 per person – including entry to Circle Club. \nFor table reservations at the restaurant:📧 poelchaukamp@spaccaforno.de \n🔹 Party @ Circle Club (starting from 10:00 PM)With Everest and Paul Kold on the decks\, delivering the finest house and feel-good vibes all night long. \nSave your energy – it’s going to be a long\, delicious night. \n🍽️ Eat.🎶 Dance.🍸 Enjoy. \nChefs Night Out – because the best nights start with good food.
URL:https://circle-hamburg.com/event/chefs-night-out-x-spaccaforno-%f0%9f%8d%b7%f0%9f%8d%95/
ATTACH;FMTTYPE=image/jpeg:https://circle-hamburg.com/wp-content/uploads/2025/04/Gross-2004_Eventbanner-3.jpeg
END:VEVENT
BEGIN:VEVENT
DTSTART;TZID=Europe/Berlin:20250423T080000
DTEND;TZID=Europe/Berlin:20250423T080000
DTSTAMP:20260424T213222
CREATED:20250409T111826Z
LAST-MODIFIED:20250409T112139Z
UID:40349-1745395200-1745395200@circle-hamburg.com
SUMMARY:ONE LOVE MITTWOCH
DESCRIPTION:ONE LOVE – Every Wednesday | Circle ClubOne night. One vibe. One Love. \nEvery Wednesday\, Circle Club belongs to ONE LOVE – your new midweek escape.Feel the best mix of House\, Afro House\, and Charts. Fresh beats\, good people\, and a night that feels like the weekend came early. \nDoors open: 10:00 PMHouse | Afro House | ChartsPure midweek energy. \nONE LOVE – where rhythm and good vibes meet\, every Wednesday.
URL:https://circle-hamburg.com/event/one-love-mittwoch-4/
ATTACH;FMTTYPE=image/jpeg:https://circle-hamburg.com/wp-content/uploads/2025/04/Gross-ONE_LOVE_EVENTBANNER-1.jpeg
END:VEVENT
BEGIN:VEVENT
DTSTART;TZID=Europe/Berlin:20250425T220000
DTEND;TZID=Europe/Berlin:20250425T220000
DTSTAMP:20260424T213222
CREATED:20250409T110102Z
LAST-MODIFIED:20250409T110146Z
UID:40334-1745618400-1745618400@circle-hamburg.com
SUMMARY:DISCOLICIOUS pres. GRAND AMORE
DESCRIPTION:🪩 DISCOLICIOUS pres. GRAND AMORE – Friday\, April 25 | Circle ClubFeel the love. Dance the night away. 💘 \nOn April 25\, DISCOLICIOUS brings you a special edition: GRAND AMORE – a night inspired by the golden era of Italo Disco. Think glitter\, groove\, and pure euphoria on the dancefloor. ✨ \n🎧 Agatino Romero sets the tone with his signature sound\, joined by Special Guest: WAVEWAVE\, ready to take you on a journey of love\, rhythm\, and unforgettable vibes. \nExpect a colorful mix of House\, Dance\, and Italo Disco Feel-Good Tunes all night long. \n🔹 Doors open: 10:00 PM🔹 Italo Disco Vibes | Feel-Good Energy | Circle Love \nGRAND AMORE – where the night belongs to you.
URL:https://circle-hamburg.com/event/discolicious-pres-grand-amore/
ATTACH;FMTTYPE=image/jpeg:https://circle-hamburg.com/wp-content/uploads/2025/04/Gross-2504_Eventbanner.jpeg
END:VEVENT
BEGIN:VEVENT
DTSTART;TZID=Europe/Berlin:20250426T220000
DTEND;TZID=Europe/Berlin:20250426T220000
DTSTAMP:20260424T213222
CREATED:20250405T120010Z
LAST-MODIFIED:20250405T120010Z
UID:40310-1745704800-1745704800@circle-hamburg.com
SUMMARY:BOHEME
DESCRIPTION:🌙 BOHÈME – Saturday\, April 26 | Circle ClubNo rules\, just rhythm. 🎶✨ \nOn April 26\, we dive into another night of BOHÈME – pure\, deep\, and electrifying House & Afro House vibes. \nOn the decks:🔥 Fabse (Berlin) – known for his energetic sets that light up the dancefloor.🔥 JUNO – bringing his signature sound and taking you on a rhythmic journey. \nLose yourself in hypnotic beats\, driving grooves\, and an atmosphere that feels like pure magic.
URL:https://circle-hamburg.com/event/boheme-9/
ATTACH;FMTTYPE=image/jpeg:https://circle-hamburg.com/wp-content/uploads/2025/04/Gross-Boheme_2604_Eventbanner.jpeg
END:VEVENT
BEGIN:VEVENT
DTSTART;TZID=Europe/Berlin:20250430T220000
DTEND;TZID=Europe/Berlin:20250430T220000
DTSTAMP:20260424T213222
CREATED:20250409T110336Z
LAST-MODIFIED:20250409T110847Z
UID:40337-1746050400-1746050400@circle-hamburg.com
SUMMARY:TANZ IN DEN MAI
DESCRIPTION:🌸 Tanz in den Mai – Wednesday\, April 30 | Circle ClubDance your way into May! 🌟 \nOn Wednesday\, April 30\, we celebrate the most iconic night of spring: Tanz in den Mai at Circle Club! \n🎧 On the decks:🔥 LE/ON – delivering the perfect soundtrack for a night full of energy and feel-good vibes.🔥 Special Guest: Dennis Louvra – bringing fresh beats and pure party spirit to the floor. \nGet ready for a night of house\, dance\, and everything in between – the perfect mix to welcome the new month in style. 🌙 \n🔹 Doors open: 10:00 PM🔹 House | Dance | Party Classics🔹 Good Vibes Only \nLet’s dance into May together – louder\, later\, and better than ever! 🎉
URL:https://circle-hamburg.com/event/tanz-in-den-mai/
ATTACH;FMTTYPE=image/jpeg:https://circle-hamburg.com/wp-content/uploads/2025/04/Gross-3004_Eventbanner-02.jpeg
END:VEVENT
END:VCALENDAR