BEGIN:VCALENDAR
VERSION:2.0
PRODID:-//Circle Club Winterhude - ECPv6.15.18//NONSGML v1.0//EN
CALSCALE:GREGORIAN
METHOD:PUBLISH
X-ORIGINAL-URL:https://circle-hamburg.com
X-WR-CALDESC:Veranstaltungen für Circle Club Winterhude
REFRESH-INTERVAL;VALUE=DURATION:PT1H
X-Robots-Tag:noindex
X-PUBLISHED-TTL:PT1H
BEGIN:VTIMEZONE
TZID:Europe/Berlin
BEGIN:DAYLIGHT
TZOFFSETFROM:+0100
TZOFFSETTO:+0200
TZNAME:CEST
DTSTART:20250330T010000
END:DAYLIGHT
BEGIN:STANDARD
TZOFFSETFROM:+0200
TZOFFSETTO:+0100
TZNAME:CET
DTSTART:20251026T010000
END:STANDARD
BEGIN:DAYLIGHT
TZOFFSETFROM:+0100
TZOFFSETTO:+0200
TZNAME:CEST
DTSTART:20260329T010000
END:DAYLIGHT
BEGIN:STANDARD
TZOFFSETFROM:+0200
TZOFFSETTO:+0100
TZNAME:CET
DTSTART:20261025T010000
END:STANDARD
BEGIN:DAYLIGHT
TZOFFSETFROM:+0100
TZOFFSETTO:+0200
TZNAME:CEST
DTSTART:20270328T010000
END:DAYLIGHT
BEGIN:STANDARD
TZOFFSETFROM:+0200
TZOFFSETTO:+0100
TZNAME:CET
DTSTART:20271031T010000
END:STANDARD
END:VTIMEZONE
BEGIN:VEVENT
DTSTART;TZID=Europe/Berlin:20260422T230000
DTEND;TZID=Europe/Berlin:20260422T230000
DTSTAMP:20260423T210116
CREATED:20260322T092828Z
LAST-MODIFIED:20260322T093022Z
UID:44823-1776898800-1776898800@circle-hamburg.com
SUMMARY:ONE LOVE MITTWOCH
DESCRIPTION:Wednesday – ONE LOVEMidweek vibes\, pure energy. 💛ONE LOVE brings you Hip-Hop\, R&B & Afro tunes – the perfect mix to keep the dancefloor alive on a Wednesday night.Good people\, good music\, one love. \nDoors open: 10:00 PM📍 Circle Club Hamburg🎟️ Table reservations: reservierung@circle-hamburg.com
URL:https://circle-hamburg.com/event/one-love-mittwoch-50/
ATTACH;FMTTYPE=image/jpeg:https://circle-hamburg.com/wp-content/uploads/2025/04/Gross-ONE_LOVE_EVENTBANNER-1.jpeg
END:VEVENT
END:VCALENDAR