BEGIN:VCALENDAR
VERSION:2.0
PRODID:-//Circle Club Winterhude - ECPv6.15.18//NONSGML v1.0//EN
CALSCALE:GREGORIAN
METHOD:PUBLISH
X-ORIGINAL-URL:https://circle-hamburg.com
X-WR-CALDESC:Veranstaltungen für Circle Club Winterhude
REFRESH-INTERVAL;VALUE=DURATION:PT1H
X-Robots-Tag:noindex
X-PUBLISHED-TTL:PT1H
BEGIN:VTIMEZONE
TZID:Europe/Berlin
BEGIN:DAYLIGHT
TZOFFSETFROM:+0100
TZOFFSETTO:+0200
TZNAME:CEST
DTSTART:20250330T010000
END:DAYLIGHT
BEGIN:STANDARD
TZOFFSETFROM:+0200
TZOFFSETTO:+0100
TZNAME:CET
DTSTART:20251026T010000
END:STANDARD
BEGIN:DAYLIGHT
TZOFFSETFROM:+0100
TZOFFSETTO:+0200
TZNAME:CEST
DTSTART:20260329T010000
END:DAYLIGHT
BEGIN:STANDARD
TZOFFSETFROM:+0200
TZOFFSETTO:+0100
TZNAME:CET
DTSTART:20261025T010000
END:STANDARD
BEGIN:DAYLIGHT
TZOFFSETFROM:+0100
TZOFFSETTO:+0200
TZNAME:CEST
DTSTART:20270328T010000
END:DAYLIGHT
BEGIN:STANDARD
TZOFFSETFROM:+0200
TZOFFSETTO:+0100
TZNAME:CET
DTSTART:20271031T010000
END:STANDARD
END:VTIMEZONE
BEGIN:VEVENT
DTSTART;TZID=Europe/Berlin:20260403T230000
DTEND;TZID=Europe/Berlin:20260403T230000
DTSTAMP:20260423T210113
CREATED:20260327T134249Z
LAST-MODIFIED:20260327T134435Z
UID:44859-1775257200-1775257200@circle-hamburg.com
SUMMARY:CHERRY MOON
DESCRIPTION:Friday\, 03.04 – CHERRY MOON 🌙🍒 \nA night between elegance and energy.CHERRY MOON brings together refined atmosphere\, deep rhythms and a dancefloor built for connection. \nOn the decks: Deniz Dan Tuna & LE/ON\, delivering a sound that moves between hypnotic grooves and driving late-night energy. \nGood Friday – and we’re open as usual. \nExpect a special kind of night\, shaped by music\, mood and the people on the dancefloor. \nDoors open: 11:00 PM📍 Circle Club Hamburg🎟️ Table reservations: reservierung@circle-hamburg.com
URL:https://circle-hamburg.com/event/cherry-moon/
ATTACH;FMTTYPE=image/png:https://circle-hamburg.com/wp-content/uploads/2026/03/Circle-3.4.png
END:VEVENT
END:VCALENDAR