BEGIN:VCALENDAR
VERSION:2.0
PRODID:-//Circle Club Winterhude - ECPv6.15.18//NONSGML v1.0//EN
CALSCALE:GREGORIAN
METHOD:PUBLISH
X-ORIGINAL-URL:https://circle-hamburg.com
X-WR-CALDESC:Veranstaltungen für Circle Club Winterhude
REFRESH-INTERVAL;VALUE=DURATION:PT1H
X-Robots-Tag:noindex
X-PUBLISHED-TTL:PT1H
BEGIN:VTIMEZONE
TZID:Europe/Berlin
BEGIN:DAYLIGHT
TZOFFSETFROM:+0100
TZOFFSETTO:+0200
TZNAME:CEST
DTSTART:20250330T010000
END:DAYLIGHT
BEGIN:STANDARD
TZOFFSETFROM:+0200
TZOFFSETTO:+0100
TZNAME:CET
DTSTART:20251026T010000
END:STANDARD
BEGIN:DAYLIGHT
TZOFFSETFROM:+0100
TZOFFSETTO:+0200
TZNAME:CEST
DTSTART:20260329T010000
END:DAYLIGHT
BEGIN:STANDARD
TZOFFSETFROM:+0200
TZOFFSETTO:+0100
TZNAME:CET
DTSTART:20261025T010000
END:STANDARD
BEGIN:DAYLIGHT
TZOFFSETFROM:+0100
TZOFFSETTO:+0200
TZNAME:CEST
DTSTART:20270328T010000
END:DAYLIGHT
BEGIN:STANDARD
TZOFFSETFROM:+0200
TZOFFSETTO:+0100
TZNAME:CET
DTSTART:20271031T010000
END:STANDARD
END:VTIMEZONE
BEGIN:VEVENT
DTSTART;TZID=Europe/Berlin:20260314T230000
DTEND;TZID=Europe/Berlin:20260314T230000
DTSTAMP:20260423T225148
CREATED:20260303T110334Z
LAST-MODIFIED:20260303T110441Z
UID:44676-1773529200-1773529200@circle-hamburg.com
SUMMARY:BOHEME Pres. MC FLY
DESCRIPTION:Saturday\, 14.03 – BOHÈME pres. MC FLY 🖤 \nSaturday means BOHÈME – deep\, driving & electrifying.This edition is headlined by MC FLY\, bringing his signature blend of hypnotic\, high-energy house to the Circle dancefloor. \nSupported by Elias Everest\, setting the tone with warm grooves and refined club energy. \nA night built on rhythm\, momentum and pure atmosphere. \nDoors open: 11:00 PM📍 Circle Club Hamburg🎟️ Table reservations: reservierung@circle-hamburg.com
URL:https://circle-hamburg.com/event/boheme-pres-mc-fly/
ATTACH;FMTTYPE=image/jpeg:https://circle-hamburg.com/wp-content/uploads/2026/03/Gross-1403_Eventbanner.jpeg
END:VEVENT
END:VCALENDAR