BEGIN:VCALENDAR
VERSION:2.0
PRODID:-//Circle Club Winterhude - ECPv6.15.18//NONSGML v1.0//EN
CALSCALE:GREGORIAN
METHOD:PUBLISH
X-ORIGINAL-URL:https://circle-hamburg.com
X-WR-CALDESC:Veranstaltungen für Circle Club Winterhude
REFRESH-INTERVAL;VALUE=DURATION:PT1H
X-Robots-Tag:noindex
X-PUBLISHED-TTL:PT1H
BEGIN:VTIMEZONE
TZID:Europe/Berlin
BEGIN:DAYLIGHT
TZOFFSETFROM:+0100
TZOFFSETTO:+0200
TZNAME:CEST
DTSTART:20250330T010000
END:DAYLIGHT
BEGIN:STANDARD
TZOFFSETFROM:+0200
TZOFFSETTO:+0100
TZNAME:CET
DTSTART:20251026T010000
END:STANDARD
BEGIN:DAYLIGHT
TZOFFSETFROM:+0100
TZOFFSETTO:+0200
TZNAME:CEST
DTSTART:20260329T010000
END:DAYLIGHT
BEGIN:STANDARD
TZOFFSETFROM:+0200
TZOFFSETTO:+0100
TZNAME:CET
DTSTART:20261025T010000
END:STANDARD
BEGIN:DAYLIGHT
TZOFFSETFROM:+0100
TZOFFSETTO:+0200
TZNAME:CEST
DTSTART:20270328T010000
END:DAYLIGHT
BEGIN:STANDARD
TZOFFSETFROM:+0200
TZOFFSETTO:+0100
TZNAME:CET
DTSTART:20271031T010000
END:STANDARD
END:VTIMEZONE
BEGIN:VEVENT
DTSTART;TZID=Europe/Berlin:20260306T230000
DTEND;TZID=Europe/Berlin:20260306T230000
DTSTAMP:20260424T015149
CREATED:20260303T104658Z
LAST-MODIFIED:20260303T104712Z
UID:44663-1772838000-1772838000@circle-hamburg.com
SUMMARY:CHICKS GONE WILDER
DESCRIPTION:Friday\, 06.03 – CHICKS GONE WILDER 💋 \nUnleash the energy. Own the night.CHICKS GONE WILDER is back – bringing attitude\, confidence and nonstop vibes to the dancefloor. \nOn the decks: DJ DAZZ & LE/ON\, delivering a high-energy mix of club anthems\, throwbacks and feel-good hits that keep the crowd moving all night long. \nExpect a packed dancefloor\, bold energy and a Friday night that doesn’t hold back. \nDoors open: 11:00 PM📍 Circle Club Hamburg🎟️ Table reservations: reservierung@circle-hamburg.com
URL:https://circle-hamburg.com/event/chicks-gone-wilder-2/
ATTACH;FMTTYPE=image/jpeg:https://circle-hamburg.com/wp-content/uploads/2026/03/Gross-Eventbanner_0603.jpeg
END:VEVENT
END:VCALENDAR