BEGIN:VCALENDAR
VERSION:2.0
PRODID:-//Circle Club Winterhude - ECPv6.15.18//NONSGML v1.0//EN
CALSCALE:GREGORIAN
METHOD:PUBLISH
X-WR-CALNAME:Circle Club Winterhude
X-ORIGINAL-URL:https://circle-hamburg.com
X-WR-CALDESC:Veranstaltungen für Circle Club Winterhude
REFRESH-INTERVAL;VALUE=DURATION:PT1H
X-Robots-Tag:noindex
X-PUBLISHED-TTL:PT1H
BEGIN:VTIMEZONE
TZID:Europe/Berlin
BEGIN:DAYLIGHT
TZOFFSETFROM:+0100
TZOFFSETTO:+0200
TZNAME:CEST
DTSTART:20250330T010000
END:DAYLIGHT
BEGIN:STANDARD
TZOFFSETFROM:+0200
TZOFFSETTO:+0100
TZNAME:CET
DTSTART:20251026T010000
END:STANDARD
BEGIN:DAYLIGHT
TZOFFSETFROM:+0100
TZOFFSETTO:+0200
TZNAME:CEST
DTSTART:20260329T010000
END:DAYLIGHT
BEGIN:STANDARD
TZOFFSETFROM:+0200
TZOFFSETTO:+0100
TZNAME:CET
DTSTART:20261025T010000
END:STANDARD
BEGIN:DAYLIGHT
TZOFFSETFROM:+0100
TZOFFSETTO:+0200
TZNAME:CEST
DTSTART:20270328T010000
END:DAYLIGHT
BEGIN:STANDARD
TZOFFSETFROM:+0200
TZOFFSETTO:+0100
TZNAME:CET
DTSTART:20271031T010000
END:STANDARD
END:VTIMEZONE
BEGIN:VEVENT
DTSTART;TZID=Europe/Berlin:20260130T230000
DTEND;TZID=Europe/Berlin:20260130T230000
DTSTAMP:20260424T001618
CREATED:20260119T153512Z
LAST-MODIFIED:20260120T124107Z
UID:43633-1769814000-1769814000@circle-hamburg.com
SUMMARY:DISCONNECTED presents AJNA [MAGNIFIK] & JUNO
DESCRIPTION:DISCONNECTED presents AJNA [MAGNIFIK] & JUNOpowered by CREAM AGENCY \nDisconnected from the outside. Connected on the dancefloor. 🖤 \nFor the very first time in Hamburg:AJNA\, co-founder of MAGNIFIK alongside SAMM\, makes his Hamburg debut at Circle Club.Known for his melodic & afro house sound\, AJNA delivers deep\, emotional and driving rhythms built for long nights and immersive dancefloors.Joined by JUNO\, completing the journey with warm grooves and modern house vibes. \nSupport: LE/ON & IVY\, setting the tone and guiding the night from start to finish. \nDoors open: 11:00 PM📍 Circle Club Hamburg\nTickets: https://bit.ly/cream3001🎟️ Table reservations: reservierung@circle-hamburg.com
URL:https://circle-hamburg.com/event/disconnected-presents-ajna-magnifik-juno/
ATTACH;FMTTYPE=image/jpeg:https://circle-hamburg.com/wp-content/uploads/2026/01/Disconnected_circle_3001_FB-Flyer_3.jpg
END:VEVENT
END:VCALENDAR