BEGIN:VCALENDAR
VERSION:2.0
PRODID:-//Circle Club Winterhude - ECPv6.15.18//NONSGML v1.0//EN
CALSCALE:GREGORIAN
METHOD:PUBLISH
X-ORIGINAL-URL:https://circle-hamburg.com
X-WR-CALDESC:Veranstaltungen für Circle Club Winterhude
REFRESH-INTERVAL;VALUE=DURATION:PT1H
X-Robots-Tag:noindex
X-PUBLISHED-TTL:PT1H
BEGIN:VTIMEZONE
TZID:Europe/Berlin
BEGIN:DAYLIGHT
TZOFFSETFROM:+0100
TZOFFSETTO:+0200
TZNAME:CEST
DTSTART:20250330T010000
END:DAYLIGHT
BEGIN:STANDARD
TZOFFSETFROM:+0200
TZOFFSETTO:+0100
TZNAME:CET
DTSTART:20251026T010000
END:STANDARD
BEGIN:DAYLIGHT
TZOFFSETFROM:+0100
TZOFFSETTO:+0200
TZNAME:CEST
DTSTART:20260329T010000
END:DAYLIGHT
BEGIN:STANDARD
TZOFFSETFROM:+0200
TZOFFSETTO:+0100
TZNAME:CET
DTSTART:20261025T010000
END:STANDARD
BEGIN:DAYLIGHT
TZOFFSETFROM:+0100
TZOFFSETTO:+0200
TZNAME:CEST
DTSTART:20270328T010000
END:DAYLIGHT
BEGIN:STANDARD
TZOFFSETFROM:+0200
TZOFFSETTO:+0100
TZNAME:CET
DTSTART:20271031T010000
END:STANDARD
END:VTIMEZONE
BEGIN:VEVENT
DTSTART;TZID=Europe/Berlin:20260103T230000
DTEND;TZID=Europe/Berlin:20260103T230000
DTSTAMP:20260424T015155
CREATED:20260101T221640Z
LAST-MODIFIED:20260101T221707Z
UID:43166-1767481200-1767481200@circle-hamburg.com
SUMMARY:NEUJAHRSEMPFANG
DESCRIPTION:Saturday\, 03.01 – New Year’s Reception ✨Start the year the right way.Join us for our New Year’s Reception at Circle Club and celebrate the beginning of 2026 in an intimate\, elegant atmosphere. \nOn the decks: LE/ON\, setting the tone for a smooth and energetic night.From 11:00 PM – 12:00 AM enjoy an OPEN BAR with a selection of curated drinks. \nA relaxed start\, great music & the perfect way to welcome the new year.
URL:https://circle-hamburg.com/event/neujahrsempfang/
ATTACH;FMTTYPE=image/jpeg:https://circle-hamburg.com/wp-content/uploads/2026/01/Gross-0301_Eventbanner.jpeg
END:VEVENT
END:VCALENDAR