BEGIN:VCALENDAR
VERSION:2.0
PRODID:-//Circle Club Winterhude - ECPv6.15.18//NONSGML v1.0//EN
CALSCALE:GREGORIAN
METHOD:PUBLISH
X-WR-CALNAME:Circle Club Winterhude
X-ORIGINAL-URL:https://circle-hamburg.com
X-WR-CALDESC:Veranstaltungen für Circle Club Winterhude
REFRESH-INTERVAL;VALUE=DURATION:PT1H
X-Robots-Tag:noindex
X-PUBLISHED-TTL:PT1H
BEGIN:VTIMEZONE
TZID:Europe/Berlin
BEGIN:DAYLIGHT
TZOFFSETFROM:+0100
TZOFFSETTO:+0200
TZNAME:CEST
DTSTART:20240331T010000
END:DAYLIGHT
BEGIN:STANDARD
TZOFFSETFROM:+0200
TZOFFSETTO:+0100
TZNAME:CET
DTSTART:20241027T010000
END:STANDARD
BEGIN:DAYLIGHT
TZOFFSETFROM:+0100
TZOFFSETTO:+0200
TZNAME:CEST
DTSTART:20250330T010000
END:DAYLIGHT
BEGIN:STANDARD
TZOFFSETFROM:+0200
TZOFFSETTO:+0100
TZNAME:CET
DTSTART:20251026T010000
END:STANDARD
BEGIN:DAYLIGHT
TZOFFSETFROM:+0100
TZOFFSETTO:+0200
TZNAME:CEST
DTSTART:20260329T010000
END:DAYLIGHT
BEGIN:STANDARD
TZOFFSETFROM:+0200
TZOFFSETTO:+0100
TZNAME:CET
DTSTART:20261025T010000
END:STANDARD
END:VTIMEZONE
BEGIN:VEVENT
DTSTART;TZID=Europe/Berlin:20251231T213000
DTEND;TZID=Europe/Berlin:20251231T213000
DTSTAMP:20260424T015023
CREATED:20251202T144031Z
LAST-MODIFIED:20251202T144229Z
UID:42371-1767216600-1767216600@circle-hamburg.com
SUMMARY:NEW YEAR’S EVE
DESCRIPTION:Wednesday\, 31.12 – NEW YEAR’S EVE at CIRCLEEnd the year where the rhythm never stops. ✨🖤Join us for an unforgettable New Year’s Eve at Circle Club – starting from 9:30 PM with exclusive specials\, the perfect atmosphere & a night built for a big finale. \nOn the decks: LE/ON & Everest\, delivering the soundtrack into 2026.Celebrate\, dance & welcome the new year in true Circle style. \n🎟️ Tickets available directly at the venue📩 Table reservations: reservierung@circle-hamburg.com
URL:https://circle-hamburg.com/event/new-years-eve/
ATTACH;FMTTYPE=image/jpeg:https://circle-hamburg.com/wp-content/uploads/2025/12/Circe_NYE-2025_FB.jpg
END:VEVENT
END:VCALENDAR