BEGIN:VCALENDAR
VERSION:2.0
PRODID:-//Circle Club Winterhude - ECPv6.15.18//NONSGML v1.0//EN
CALSCALE:GREGORIAN
METHOD:PUBLISH
X-WR-CALNAME:Circle Club Winterhude
X-ORIGINAL-URL:https://circle-hamburg.com
X-WR-CALDESC:Veranstaltungen für Circle Club Winterhude
REFRESH-INTERVAL;VALUE=DURATION:PT1H
X-Robots-Tag:noindex
X-PUBLISHED-TTL:PT1H
BEGIN:VTIMEZONE
TZID:Europe/Berlin
BEGIN:DAYLIGHT
TZOFFSETFROM:+0100
TZOFFSETTO:+0200
TZNAME:CEST
DTSTART:20240331T010000
END:DAYLIGHT
BEGIN:STANDARD
TZOFFSETFROM:+0200
TZOFFSETTO:+0100
TZNAME:CET
DTSTART:20241027T010000
END:STANDARD
BEGIN:DAYLIGHT
TZOFFSETFROM:+0100
TZOFFSETTO:+0200
TZNAME:CEST
DTSTART:20250330T010000
END:DAYLIGHT
BEGIN:STANDARD
TZOFFSETFROM:+0200
TZOFFSETTO:+0100
TZNAME:CET
DTSTART:20251026T010000
END:STANDARD
BEGIN:DAYLIGHT
TZOFFSETFROM:+0100
TZOFFSETTO:+0200
TZNAME:CEST
DTSTART:20260329T010000
END:DAYLIGHT
BEGIN:STANDARD
TZOFFSETFROM:+0200
TZOFFSETTO:+0100
TZNAME:CET
DTSTART:20261025T010000
END:STANDARD
END:VTIMEZONE
BEGIN:VEVENT
DTSTART;TZID=Europe/Berlin:20250926T230000
DTEND;TZID=Europe/Berlin:20250926T230000
DTSTAMP:20260424T092707
CREATED:20250821T152601Z
LAST-MODIFIED:20250821T152638Z
UID:41240-1758927600-1758927600@circle-hamburg.com
SUMMARY:DISCOLICOUS
DESCRIPTION:Friday\, 26.09 – DISCOLICIOUSYour Friday\, your soundtrack. 💜This week DISCOLICIOUS takes over with TYMO behind the decks – serving an open format mix full of energy\, surprises & good vibes only. \nDoors open: 11:00 PM📍 Circle Club Hamburg🎟️ Table reservations: reservierung@circle-hamburg.com
URL:https://circle-hamburg.com/event/discolicous-4/
ATTACH;FMTTYPE=image/jpeg:https://circle-hamburg.com/wp-content/uploads/2025/08/Gross-2609_Eventbanner-01.jpeg
END:VEVENT
END:VCALENDAR