BEGIN:VCALENDAR
VERSION:2.0
PRODID:-//Circle Club Winterhude - ECPv6.15.18//NONSGML v1.0//EN
CALSCALE:GREGORIAN
METHOD:PUBLISH
X-ORIGINAL-URL:https://circle-hamburg.com
X-WR-CALDESC:Veranstaltungen für Circle Club Winterhude
REFRESH-INTERVAL;VALUE=DURATION:PT1H
X-Robots-Tag:noindex
X-PUBLISHED-TTL:PT1H
BEGIN:VTIMEZONE
TZID:Europe/Berlin
BEGIN:DAYLIGHT
TZOFFSETFROM:+0100
TZOFFSETTO:+0200
TZNAME:CEST
DTSTART:20240331T010000
END:DAYLIGHT
BEGIN:STANDARD
TZOFFSETFROM:+0200
TZOFFSETTO:+0100
TZNAME:CET
DTSTART:20241027T010000
END:STANDARD
BEGIN:DAYLIGHT
TZOFFSETFROM:+0100
TZOFFSETTO:+0200
TZNAME:CEST
DTSTART:20250330T010000
END:DAYLIGHT
BEGIN:STANDARD
TZOFFSETFROM:+0200
TZOFFSETTO:+0100
TZNAME:CET
DTSTART:20251026T010000
END:STANDARD
BEGIN:DAYLIGHT
TZOFFSETFROM:+0100
TZOFFSETTO:+0200
TZNAME:CEST
DTSTART:20260329T010000
END:DAYLIGHT
BEGIN:STANDARD
TZOFFSETFROM:+0200
TZOFFSETTO:+0100
TZNAME:CET
DTSTART:20261025T010000
END:STANDARD
END:VTIMEZONE
BEGIN:VEVENT
DTSTART;TZID=Europe/Berlin:20250730T080000
DTEND;TZID=Europe/Berlin:20250730T170000
DTSTAMP:20260424T112301
CREATED:20250730T131705Z
LAST-MODIFIED:20250730T131746Z
UID:41062-1753862400-1753894800@circle-hamburg.com
SUMMARY:BOHEME
DESCRIPTION:🌙 BOHÈME – Saturday\, August 30 | Circle ClubNo compromises. Just rhythm. \nBerlin’s AMR returns to BOHÈME for a night of deep percussion\, warm melodies\, and a dancefloor journey that hits differently.If you know\, you know. \nDoors open: 10:00 PM📍 Circle Club Hamburg🎟️ Table reservations: reservierung@circle-hamburg.com
URL:https://circle-hamburg.com/event/boheme-25/
ATTACH;FMTTYPE=image/jpeg:https://circle-hamburg.com/wp-content/uploads/2025/07/Gross-3008_Eventbanner.jpeg
END:VEVENT
BEGIN:VEVENT
DTSTART;TZID=Europe/Berlin:20250730T220000
DTEND;TZID=Europe/Berlin:20250730T220000
DTSTAMP:20260424T112301
CREATED:20250708T162328Z
LAST-MODIFIED:20250708T162403Z
UID:40911-1753912800-1753912800@circle-hamburg.com
SUMMARY:ONE LOVE MITTWOCH
DESCRIPTION:🌙 ONE LOVE – Every Wednesday | Circle ClubHouse\, Afro House & Charts – midweek never felt so good.For everyone who feels more at night than during the day.Every Wednesday. Same vibe. Same love. \nDoors open: 10:00 PM📍 Circle Club Hamburg🎟️ Table reservations: reservierung@circle-hamburg.com
URL:https://circle-hamburg.com/event/one-love-mittwoch-13/
ATTACH;FMTTYPE=image/jpeg:https://circle-hamburg.com/wp-content/uploads/2025/04/Gross-ONE_LOVE_EVENTBANNER-1.jpeg
END:VEVENT
END:VCALENDAR