BEGIN:VCALENDAR
VERSION:2.0
PRODID:-//Circle Club Winterhude - ECPv6.15.18//NONSGML v1.0//EN
CALSCALE:GREGORIAN
METHOD:PUBLISH
X-WR-CALNAME:Circle Club Winterhude
X-ORIGINAL-URL:https://circle-hamburg.com
X-WR-CALDESC:Veranstaltungen für Circle Club Winterhude
REFRESH-INTERVAL;VALUE=DURATION:PT1H
X-Robots-Tag:noindex
X-PUBLISHED-TTL:PT1H
BEGIN:VTIMEZONE
TZID:Europe/Berlin
BEGIN:DAYLIGHT
TZOFFSETFROM:+0100
TZOFFSETTO:+0200
TZNAME:CEST
DTSTART:20240331T010000
END:DAYLIGHT
BEGIN:STANDARD
TZOFFSETFROM:+0200
TZOFFSETTO:+0100
TZNAME:CET
DTSTART:20241027T010000
END:STANDARD
BEGIN:DAYLIGHT
TZOFFSETFROM:+0100
TZOFFSETTO:+0200
TZNAME:CEST
DTSTART:20250330T010000
END:DAYLIGHT
BEGIN:STANDARD
TZOFFSETFROM:+0200
TZOFFSETTO:+0100
TZNAME:CET
DTSTART:20251026T010000
END:STANDARD
BEGIN:DAYLIGHT
TZOFFSETFROM:+0100
TZOFFSETTO:+0200
TZNAME:CEST
DTSTART:20260329T010000
END:DAYLIGHT
BEGIN:STANDARD
TZOFFSETFROM:+0200
TZOFFSETTO:+0100
TZNAME:CET
DTSTART:20261025T010000
END:STANDARD
END:VTIMEZONE
BEGIN:VEVENT
DTSTART;TZID=Europe/Berlin:20250718T220000
DTEND;TZID=Europe/Berlin:20250718T220000
DTSTAMP:20260424T170152
CREATED:20250708T154646Z
LAST-MODIFIED:20250708T160543Z
UID:40894-1752876000-1752876000@circle-hamburg.com
SUMMARY:GRAND AMORE
DESCRIPTION:🇮🇹 GRAND AMORE – Friday\, July 18 | Circle ClubThe night that loves louder. \nHosted by Agatino Romero\, GRAND AMORE returns to Circle – full of rhythm\, emotion and that unmistakable Italian flair.This time\, behind the decks: LE/ON with his signature edits and driving energy\, and TYMO\, known for his dynamic mix of house\, disco and club sounds. \nA night for those who feel music with their whole heart.Expect passion. Expect movement. Expect GRAND AMORE. \nDoors open: 10:00 PM🎟️ Table reservations: reservierung@circle-hamburg.com \nTi amo – every beat of it. ❤️‍🔥
URL:https://circle-hamburg.com/event/grand-amore/
ATTACH;FMTTYPE=image/jpeg:https://circle-hamburg.com/wp-content/uploads/2025/07/Gross-1807_Eventbanner.jpeg
END:VEVENT
END:VCALENDAR