BEGIN:VCALENDAR
VERSION:2.0
PRODID:-//Circle Club Winterhude - ECPv6.15.18//NONSGML v1.0//EN
CALSCALE:GREGORIAN
METHOD:PUBLISH
X-ORIGINAL-URL:https://circle-hamburg.com
X-WR-CALDESC:Veranstaltungen für Circle Club Winterhude
REFRESH-INTERVAL;VALUE=DURATION:PT1H
X-Robots-Tag:noindex
X-PUBLISHED-TTL:PT1H
BEGIN:VTIMEZONE
TZID:Europe/Berlin
BEGIN:DAYLIGHT
TZOFFSETFROM:+0100
TZOFFSETTO:+0200
TZNAME:CEST
DTSTART:20240331T010000
END:DAYLIGHT
BEGIN:STANDARD
TZOFFSETFROM:+0200
TZOFFSETTO:+0100
TZNAME:CET
DTSTART:20241027T010000
END:STANDARD
BEGIN:DAYLIGHT
TZOFFSETFROM:+0100
TZOFFSETTO:+0200
TZNAME:CEST
DTSTART:20250330T010000
END:DAYLIGHT
BEGIN:STANDARD
TZOFFSETFROM:+0200
TZOFFSETTO:+0100
TZNAME:CET
DTSTART:20251026T010000
END:STANDARD
BEGIN:DAYLIGHT
TZOFFSETFROM:+0100
TZOFFSETTO:+0200
TZNAME:CEST
DTSTART:20260329T010000
END:DAYLIGHT
BEGIN:STANDARD
TZOFFSETFROM:+0200
TZOFFSETTO:+0100
TZNAME:CET
DTSTART:20261025T010000
END:STANDARD
END:VTIMEZONE
BEGIN:VEVENT
DTSTART;TZID=Europe/Berlin:20250711T220000
DTEND;TZID=Europe/Berlin:20250711T220000
DTSTAMP:20260424T132058
CREATED:20250707T121347Z
LAST-MODIFIED:20250707T121404Z
UID:40887-1752271200-1752271200@circle-hamburg.com
SUMMARY:DISCOLICOUS
DESCRIPTION:🪩 DISCOLICIOUS – Friday\, July 11 | Circle ClubYour Friday dose of feel-good energy. \nOn July 11\, LE/ON takes over DISCOLICIOUS and delivers the perfect mix of open format sounds\, club anthems and fresh edits.From timeless classics to modern bangers – this is your invitation to dance. \nDoors open: 10:00 PM🎟️ Table reservations: reservierung@circle-hamburg.com \nFriday. Feel-good. DISCOLICIOUS.
URL:https://circle-hamburg.com/event/discolicous-2/
ATTACH;FMTTYPE=image/jpeg:https://circle-hamburg.com/wp-content/uploads/2025/07/Gross-Eventbanner_1107.jpeg
END:VEVENT
END:VCALENDAR