BEGIN:VCALENDAR
VERSION:2.0
PRODID:-//Circle Club Winterhude - ECPv6.15.18//NONSGML v1.0//EN
CALSCALE:GREGORIAN
METHOD:PUBLISH
X-WR-CALNAME:Circle Club Winterhude
X-ORIGINAL-URL:https://circle-hamburg.com
X-WR-CALDESC:Veranstaltungen für Circle Club Winterhude
REFRESH-INTERVAL;VALUE=DURATION:PT1H
X-Robots-Tag:noindex
X-PUBLISHED-TTL:PT1H
BEGIN:VTIMEZONE
TZID:Europe/Berlin
BEGIN:DAYLIGHT
TZOFFSETFROM:+0100
TZOFFSETTO:+0200
TZNAME:CEST
DTSTART:20240331T010000
END:DAYLIGHT
BEGIN:STANDARD
TZOFFSETFROM:+0200
TZOFFSETTO:+0100
TZNAME:CET
DTSTART:20241027T010000
END:STANDARD
BEGIN:DAYLIGHT
TZOFFSETFROM:+0100
TZOFFSETTO:+0200
TZNAME:CEST
DTSTART:20250330T010000
END:DAYLIGHT
BEGIN:STANDARD
TZOFFSETFROM:+0200
TZOFFSETTO:+0100
TZNAME:CET
DTSTART:20251026T010000
END:STANDARD
BEGIN:DAYLIGHT
TZOFFSETFROM:+0100
TZOFFSETTO:+0200
TZNAME:CEST
DTSTART:20260329T010000
END:DAYLIGHT
BEGIN:STANDARD
TZOFFSETFROM:+0200
TZOFFSETTO:+0100
TZNAME:CET
DTSTART:20261025T010000
END:STANDARD
END:VTIMEZONE
BEGIN:VEVENT
DTSTART;TZID=Europe/Berlin:20250531T220000
DTEND;TZID=Europe/Berlin:20250531T220000
DTSTAMP:20260424T170158
CREATED:20250426T110419Z
LAST-MODIFIED:20250428T093530Z
UID:40468-1748728800-1748728800@circle-hamburg.com
SUMMARY:BOHEME
DESCRIPTION:BOHÈME – Every Saturday | Special Night on May 31Where rhythm never sleeps. \nOn Saturday\, May 31\, our Residents Everest & LE/ON take over the Circle Club for a night full of deep\, driving House and Afro House. Pure energy. Pure sound. Pure BOHÈME. \nDoors open: 10 PMCircle Club Hamburg \nTable reservations: reservierung@circle-hamburg.com \nSaturday belongs to BOHÈME.
URL:https://circle-hamburg.com/event/boheme-14/
END:VEVENT
END:VCALENDAR