BEGIN:VCALENDAR
VERSION:2.0
PRODID:-//Circle Club Winterhude - ECPv6.15.18//NONSGML v1.0//EN
CALSCALE:GREGORIAN
METHOD:PUBLISH
X-WR-CALNAME:Circle Club Winterhude
X-ORIGINAL-URL:https://circle-hamburg.com
X-WR-CALDESC:Veranstaltungen für Circle Club Winterhude
REFRESH-INTERVAL;VALUE=DURATION:PT1H
X-Robots-Tag:noindex
X-PUBLISHED-TTL:PT1H
BEGIN:VTIMEZONE
TZID:Europe/Berlin
BEGIN:DAYLIGHT
TZOFFSETFROM:+0100
TZOFFSETTO:+0200
TZNAME:CEST
DTSTART:20240331T010000
END:DAYLIGHT
BEGIN:STANDARD
TZOFFSETFROM:+0200
TZOFFSETTO:+0100
TZNAME:CET
DTSTART:20241027T010000
END:STANDARD
BEGIN:DAYLIGHT
TZOFFSETFROM:+0100
TZOFFSETTO:+0200
TZNAME:CEST
DTSTART:20250330T010000
END:DAYLIGHT
BEGIN:STANDARD
TZOFFSETFROM:+0200
TZOFFSETTO:+0100
TZNAME:CET
DTSTART:20251026T010000
END:STANDARD
BEGIN:DAYLIGHT
TZOFFSETFROM:+0100
TZOFFSETTO:+0200
TZNAME:CEST
DTSTART:20260329T010000
END:DAYLIGHT
BEGIN:STANDARD
TZOFFSETFROM:+0200
TZOFFSETTO:+0100
TZNAME:CET
DTSTART:20261025T010000
END:STANDARD
END:VTIMEZONE
BEGIN:VEVENT
DTSTART;TZID=Europe/Berlin:20250528T220000
DTEND;TZID=Europe/Berlin:20250528T220000
DTSTAMP:20260424T170137
CREATED:20250426T113235Z
LAST-MODIFIED:20250428T091612Z
UID:40477-1748469600-1748469600@circle-hamburg.com
SUMMARY:ONE LOVE MITTWOCH
DESCRIPTION:ONE LOVE – Every Wednesday | Circle ClubOne night. One vibe. One Love. \nEvery Wednesday\, Circle Club belongs to ONE LOVE – your new midweek escape.Feel the best mix of House\, Afro House\, and Charts. Fresh beats\, good people\, and a night that feels like the weekend came early. \nDoors open: 10:00 PMHouse | Afro House | ChartsPure midweek energy. \nTable reservations: reservierung@circle-hamburg.com \nONE LOVE – where rhythm and good vibes meet\, every Wednesday.
URL:https://circle-hamburg.com/event/one-love-mittwoch-8/
ATTACH;FMTTYPE=image/jpeg:https://circle-hamburg.com/wp-content/uploads/2025/04/Gross-ONE_LOVE_EVENTBANNER-1.jpeg
END:VEVENT
END:VCALENDAR