BEGIN:VCALENDAR
VERSION:2.0
PRODID:-//Circle Club Winterhude - ECPv6.15.18//NONSGML v1.0//EN
CALSCALE:GREGORIAN
METHOD:PUBLISH
X-WR-CALNAME:Circle Club Winterhude
X-ORIGINAL-URL:https://circle-hamburg.com
X-WR-CALDESC:Veranstaltungen für Circle Club Winterhude
REFRESH-INTERVAL;VALUE=DURATION:PT1H
X-Robots-Tag:noindex
X-PUBLISHED-TTL:PT1H
BEGIN:VTIMEZONE
TZID:Europe/Berlin
BEGIN:DAYLIGHT
TZOFFSETFROM:+0100
TZOFFSETTO:+0200
TZNAME:CEST
DTSTART:20240331T010000
END:DAYLIGHT
BEGIN:STANDARD
TZOFFSETFROM:+0200
TZOFFSETTO:+0100
TZNAME:CET
DTSTART:20241027T010000
END:STANDARD
BEGIN:DAYLIGHT
TZOFFSETFROM:+0100
TZOFFSETTO:+0200
TZNAME:CEST
DTSTART:20250330T010000
END:DAYLIGHT
BEGIN:STANDARD
TZOFFSETFROM:+0200
TZOFFSETTO:+0100
TZNAME:CET
DTSTART:20251026T010000
END:STANDARD
BEGIN:DAYLIGHT
TZOFFSETFROM:+0100
TZOFFSETTO:+0200
TZNAME:CEST
DTSTART:20260329T010000
END:DAYLIGHT
BEGIN:STANDARD
TZOFFSETFROM:+0200
TZOFFSETTO:+0100
TZNAME:CET
DTSTART:20261025T010000
END:STANDARD
END:VTIMEZONE
BEGIN:VEVENT
DTSTART;TZID=Europe/Berlin:20250523T220000
DTEND;TZID=Europe/Berlin:20250523T220000
DTSTAMP:20260424T200537
CREATED:20250520T184624Z
LAST-MODIFIED:20250520T184723Z
UID:40612-1748037600-1748037600@circle-hamburg.com
SUMMARY:DISCOLICIOUS pres. GRAND SLAM
DESCRIPTION:🎾 GRAND SLAM – Friday\, May 23 | Circle ClubBecause after the court comes the club. \nWhile the city celebrates world-class tennis\, we serve our own kind of highlight:GRAND SLAM – the official night for those who finish strong. \nOn the decks: LE/ON & TYMOOpen format\, house & club sounds – powered by that finals energy. \n📍 Circle Club Hamburg🕙 Doors open: 10:00 PM🎟️ Table reservations: reservierung@circle-hamburg.com \nGame. Set. Dance.
URL:https://circle-hamburg.com/event/discolicious-pres-grand-slam/
ATTACH;FMTTYPE=image/jpeg:https://circle-hamburg.com/wp-content/uploads/2025/05/Gross-2305_Eventbanner.jpeg
END:VEVENT
END:VCALENDAR