BEGIN:VCALENDAR
VERSION:2.0
PRODID:-//Circle Club Winterhude - ECPv6.15.18//NONSGML v1.0//EN
CALSCALE:GREGORIAN
METHOD:PUBLISH
X-WR-CALNAME:Circle Club Winterhude
X-ORIGINAL-URL:https://circle-hamburg.com
X-WR-CALDESC:Veranstaltungen für Circle Club Winterhude
REFRESH-INTERVAL;VALUE=DURATION:PT1H
X-Robots-Tag:noindex
X-PUBLISHED-TTL:PT1H
BEGIN:VTIMEZONE
TZID:Europe/Berlin
BEGIN:DAYLIGHT
TZOFFSETFROM:+0100
TZOFFSETTO:+0200
TZNAME:CEST
DTSTART:20240331T010000
END:DAYLIGHT
BEGIN:STANDARD
TZOFFSETFROM:+0200
TZOFFSETTO:+0100
TZNAME:CET
DTSTART:20241027T010000
END:STANDARD
BEGIN:DAYLIGHT
TZOFFSETFROM:+0100
TZOFFSETTO:+0200
TZNAME:CEST
DTSTART:20250330T010000
END:DAYLIGHT
BEGIN:STANDARD
TZOFFSETFROM:+0200
TZOFFSETTO:+0100
TZNAME:CET
DTSTART:20251026T010000
END:STANDARD
BEGIN:DAYLIGHT
TZOFFSETFROM:+0100
TZOFFSETTO:+0200
TZNAME:CEST
DTSTART:20260329T010000
END:DAYLIGHT
BEGIN:STANDARD
TZOFFSETFROM:+0200
TZOFFSETTO:+0100
TZNAME:CET
DTSTART:20261025T010000
END:STANDARD
END:VTIMEZONE
BEGIN:VEVENT
DTSTART;TZID=Europe/Berlin:20250506T220000
DTEND;TZID=Europe/Berlin:20250506T220000
DTSTAMP:20260424T200440
CREATED:20250502T120640Z
LAST-MODIFIED:20250502T120823Z
UID:40525-1746568800-1746568800@circle-hamburg.com
SUMMARY:THE AFTERSHOW
DESCRIPTION:✨ THE AFTERSHOW – Tuesday\, May 6 | Circle ClubDoors open exceptionally – and everyone’s invited. \nTo celebrate OMR week\, we’re opening our doors on Tuesday\, May 6 for a special night full of sound\, energy\, and connection.On the decks: Jeremy Armand and LE/ON – serving up House\, Dance & late-night magic. \nWhether you’re here for business or just the after-hours vibe – THE AFTERSHOW is where it all comes together. \nDoors open: 10:00 PMCircle Club Hamburg \nNo guest list. No limits. Just come through.
URL:https://circle-hamburg.com/event/the-aftershow/
ATTACH;FMTTYPE=image/jpeg:https://circle-hamburg.com/wp-content/uploads/2025/05/WhatsApp-Image-2025-05-02-at-13.15.49.jpeg
END:VEVENT
END:VCALENDAR