BEGIN:VCALENDAR
VERSION:2.0
PRODID:-//Circle Club Winterhude - ECPv6.15.18//NONSGML v1.0//EN
CALSCALE:GREGORIAN
METHOD:PUBLISH
X-WR-CALNAME:Circle Club Winterhude
X-ORIGINAL-URL:https://circle-hamburg.com
X-WR-CALDESC:Veranstaltungen für Circle Club Winterhude
REFRESH-INTERVAL;VALUE=DURATION:PT1H
X-Robots-Tag:noindex
X-PUBLISHED-TTL:PT1H
BEGIN:VTIMEZONE
TZID:Europe/Berlin
BEGIN:DAYLIGHT
TZOFFSETFROM:+0100
TZOFFSETTO:+0200
TZNAME:CEST
DTSTART:20240331T010000
END:DAYLIGHT
BEGIN:STANDARD
TZOFFSETFROM:+0200
TZOFFSETTO:+0100
TZNAME:CET
DTSTART:20241027T010000
END:STANDARD
BEGIN:DAYLIGHT
TZOFFSETFROM:+0100
TZOFFSETTO:+0200
TZNAME:CEST
DTSTART:20250330T010000
END:DAYLIGHT
BEGIN:STANDARD
TZOFFSETFROM:+0200
TZOFFSETTO:+0100
TZNAME:CET
DTSTART:20251026T010000
END:STANDARD
BEGIN:DAYLIGHT
TZOFFSETFROM:+0100
TZOFFSETTO:+0200
TZNAME:CEST
DTSTART:20260329T010000
END:DAYLIGHT
BEGIN:STANDARD
TZOFFSETFROM:+0200
TZOFFSETTO:+0100
TZNAME:CET
DTSTART:20261025T010000
END:STANDARD
END:VTIMEZONE
BEGIN:VEVENT
DTSTART;TZID=Europe/Berlin:20250430T220000
DTEND;TZID=Europe/Berlin:20250430T220000
DTSTAMP:20260424T200429
CREATED:20250409T110336Z
LAST-MODIFIED:20250409T110847Z
UID:40337-1746050400-1746050400@circle-hamburg.com
SUMMARY:TANZ IN DEN MAI
DESCRIPTION:🌸 Tanz in den Mai – Wednesday\, April 30 | Circle ClubDance your way into May! 🌟 \nOn Wednesday\, April 30\, we celebrate the most iconic night of spring: Tanz in den Mai at Circle Club! \n🎧 On the decks:🔥 LE/ON – delivering the perfect soundtrack for a night full of energy and feel-good vibes.🔥 Special Guest: Dennis Louvra – bringing fresh beats and pure party spirit to the floor. \nGet ready for a night of house\, dance\, and everything in between – the perfect mix to welcome the new month in style. 🌙 \n🔹 Doors open: 10:00 PM🔹 House | Dance | Party Classics🔹 Good Vibes Only \nLet’s dance into May together – louder\, later\, and better than ever! 🎉
URL:https://circle-hamburg.com/event/tanz-in-den-mai/
ATTACH;FMTTYPE=image/jpeg:https://circle-hamburg.com/wp-content/uploads/2025/04/Gross-3004_Eventbanner-02.jpeg
END:VEVENT
END:VCALENDAR