BEGIN:VCALENDAR
VERSION:2.0
PRODID:-//Circle Club Winterhude - ECPv6.15.18//NONSGML v1.0//EN
CALSCALE:GREGORIAN
METHOD:PUBLISH
X-ORIGINAL-URL:https://circle-hamburg.com
X-WR-CALDESC:Veranstaltungen für Circle Club Winterhude
REFRESH-INTERVAL;VALUE=DURATION:PT1H
X-Robots-Tag:noindex
X-PUBLISHED-TTL:PT1H
BEGIN:VTIMEZONE
TZID:Europe/Berlin
BEGIN:DAYLIGHT
TZOFFSETFROM:+0100
TZOFFSETTO:+0200
TZNAME:CEST
DTSTART:20240331T010000
END:DAYLIGHT
BEGIN:STANDARD
TZOFFSETFROM:+0200
TZOFFSETTO:+0100
TZNAME:CET
DTSTART:20241027T010000
END:STANDARD
BEGIN:DAYLIGHT
TZOFFSETFROM:+0100
TZOFFSETTO:+0200
TZNAME:CEST
DTSTART:20250330T010000
END:DAYLIGHT
BEGIN:STANDARD
TZOFFSETFROM:+0200
TZOFFSETTO:+0100
TZNAME:CET
DTSTART:20251026T010000
END:STANDARD
BEGIN:DAYLIGHT
TZOFFSETFROM:+0100
TZOFFSETTO:+0200
TZNAME:CEST
DTSTART:20260329T010000
END:DAYLIGHT
BEGIN:STANDARD
TZOFFSETFROM:+0200
TZOFFSETTO:+0100
TZNAME:CET
DTSTART:20261025T010000
END:STANDARD
END:VTIMEZONE
BEGIN:VEVENT
DTSTART;TZID=Europe/Berlin:20250425T220000
DTEND;TZID=Europe/Berlin:20250425T220000
DTSTAMP:20260424T213119
CREATED:20250409T110102Z
LAST-MODIFIED:20250409T110146Z
UID:40334-1745618400-1745618400@circle-hamburg.com
SUMMARY:DISCOLICIOUS pres. GRAND AMORE
DESCRIPTION:🪩 DISCOLICIOUS pres. GRAND AMORE – Friday\, April 25 | Circle ClubFeel the love. Dance the night away. 💘 \nOn April 25\, DISCOLICIOUS brings you a special edition: GRAND AMORE – a night inspired by the golden era of Italo Disco. Think glitter\, groove\, and pure euphoria on the dancefloor. ✨ \n🎧 Agatino Romero sets the tone with his signature sound\, joined by Special Guest: WAVEWAVE\, ready to take you on a journey of love\, rhythm\, and unforgettable vibes. \nExpect a colorful mix of House\, Dance\, and Italo Disco Feel-Good Tunes all night long. \n🔹 Doors open: 10:00 PM🔹 Italo Disco Vibes | Feel-Good Energy | Circle Love \nGRAND AMORE – where the night belongs to you.
URL:https://circle-hamburg.com/event/discolicious-pres-grand-amore/
ATTACH;FMTTYPE=image/jpeg:https://circle-hamburg.com/wp-content/uploads/2025/04/Gross-2504_Eventbanner.jpeg
END:VEVENT
END:VCALENDAR