BEGIN:VCALENDAR
VERSION:2.0
PRODID:-//Circle Club Winterhude - ECPv6.15.18//NONSGML v1.0//EN
CALSCALE:GREGORIAN
METHOD:PUBLISH
X-WR-CALNAME:Circle Club Winterhude
X-ORIGINAL-URL:https://circle-hamburg.com
X-WR-CALDESC:Veranstaltungen für Circle Club Winterhude
REFRESH-INTERVAL;VALUE=DURATION:PT1H
X-Robots-Tag:noindex
X-PUBLISHED-TTL:PT1H
BEGIN:VTIMEZONE
TZID:Europe/Berlin
BEGIN:DAYLIGHT
TZOFFSETFROM:+0100
TZOFFSETTO:+0200
TZNAME:CEST
DTSTART:20240331T010000
END:DAYLIGHT
BEGIN:STANDARD
TZOFFSETFROM:+0200
TZOFFSETTO:+0100
TZNAME:CET
DTSTART:20241027T010000
END:STANDARD
BEGIN:DAYLIGHT
TZOFFSETFROM:+0100
TZOFFSETTO:+0200
TZNAME:CEST
DTSTART:20250330T010000
END:DAYLIGHT
BEGIN:STANDARD
TZOFFSETFROM:+0200
TZOFFSETTO:+0100
TZNAME:CET
DTSTART:20251026T010000
END:STANDARD
BEGIN:DAYLIGHT
TZOFFSETFROM:+0100
TZOFFSETTO:+0200
TZNAME:CEST
DTSTART:20260329T010000
END:DAYLIGHT
BEGIN:STANDARD
TZOFFSETFROM:+0200
TZOFFSETTO:+0100
TZNAME:CET
DTSTART:20261025T010000
END:STANDARD
END:VTIMEZONE
BEGIN:VEVENT
DTSTART;TZID=Europe/Berlin:20250420T220000
DTEND;TZID=Europe/Berlin:20250420T220000
DTSTAMP:20260424T230516
CREATED:20250409T105532Z
LAST-MODIFIED:20250409T105532Z
UID:40331-1745186400-1745186400@circle-hamburg.com
SUMMARY:Chefs Night Out x Spaccaforno 🍷🍕
DESCRIPTION:🍕 Chefs Night Out x Spaccaforno 🍷Eat well. Dance even better. \nOn Easter Sunday\, April 20\, we’re inviting you to a very special night: First\, enjoy the best Neapolitan pizza in Hamburg at Spaccaforno – then party into the early morning hours at Circle Club. \nAnd the best part? Monday is a public holiday – so you can party without worrying about work! 🎉 \n🔹 Dinner @ SpaccafornoAuthentic pizza\, fine wine\, and a night among friends.Guests who dine at Spaccaforno enjoy free entry to the party at Circle! 🎟️ \nMenu:•⁠ ⁠Mixed antipasti to share•⁠ ⁠Pizza served family style in the middle (with options like truffle\, beef tartare\, and all the classics)•⁠ ⁠Dessert following the same sharing concept \n💰 €45.00 per person – including entry to Circle Club. \nFor table reservations at the restaurant:📧 poelchaukamp@spaccaforno.de \n🔹 Party @ Circle Club (starting from 10:00 PM)With Everest and Paul Kold on the decks\, delivering the finest house and feel-good vibes all night long. \nSave your energy – it’s going to be a long\, delicious night. \n🍽️ Eat.🎶 Dance.🍸 Enjoy. \nChefs Night Out – because the best nights start with good food.
URL:https://circle-hamburg.com/event/chefs-night-out-x-spaccaforno-%f0%9f%8d%b7%f0%9f%8d%95/
ATTACH;FMTTYPE=image/jpeg:https://circle-hamburg.com/wp-content/uploads/2025/04/Gross-2004_Eventbanner-3.jpeg
END:VEVENT
END:VCALENDAR