BEGIN:VCALENDAR
VERSION:2.0
PRODID:-//Circle Club Winterhude - ECPv6.15.18//NONSGML v1.0//EN
CALSCALE:GREGORIAN
METHOD:PUBLISH
X-WR-CALNAME:Circle Club Winterhude
X-ORIGINAL-URL:https://circle-hamburg.com
X-WR-CALDESC:Veranstaltungen für Circle Club Winterhude
REFRESH-INTERVAL;VALUE=DURATION:PT1H
X-Robots-Tag:noindex
X-PUBLISHED-TTL:PT1H
BEGIN:VTIMEZONE
TZID:Europe/Berlin
BEGIN:DAYLIGHT
TZOFFSETFROM:+0100
TZOFFSETTO:+0200
TZNAME:CEST
DTSTART:20240331T010000
END:DAYLIGHT
BEGIN:STANDARD
TZOFFSETFROM:+0200
TZOFFSETTO:+0100
TZNAME:CET
DTSTART:20241027T010000
END:STANDARD
BEGIN:DAYLIGHT
TZOFFSETFROM:+0100
TZOFFSETTO:+0200
TZNAME:CEST
DTSTART:20250330T010000
END:DAYLIGHT
BEGIN:STANDARD
TZOFFSETFROM:+0200
TZOFFSETTO:+0100
TZNAME:CET
DTSTART:20251026T010000
END:STANDARD
BEGIN:DAYLIGHT
TZOFFSETFROM:+0100
TZOFFSETTO:+0200
TZNAME:CEST
DTSTART:20260329T010000
END:DAYLIGHT
BEGIN:STANDARD
TZOFFSETFROM:+0200
TZOFFSETTO:+0100
TZNAME:CET
DTSTART:20261025T010000
END:STANDARD
END:VTIMEZONE
BEGIN:VEVENT
DTSTART;TZID=Europe/Berlin:20250418T220000
DTEND;TZID=Europe/Berlin:20250418T220000
DTSTAMP:20260424T212934
CREATED:20250405T115605Z
LAST-MODIFIED:20250405T115619Z
UID:40306-1745013600-1745013600@circle-hamburg.com
SUMMARY:DISCOLICIOUS
DESCRIPTION:🪩 DISCOLICIOUS – Friday\, April 18 | Circle ClubGood vibes only – even on Good Friday! 🎉 \nOn April 18\, we’re bringing you a special edition of DISCOLICIOUS with DJ Dazz and LE/ON behind the decks.Yes\, it’s Good Friday – but don’t worry: The music will play as usual! 🎶 \nGet ready for a night full of open format sounds – from funky classics to fresh hits.Perfect for everyone who’s up for a long night\, cold drinks\, and hot beats.
URL:https://circle-hamburg.com/event/discolicious-4/
ATTACH;FMTTYPE=image/jpeg:https://circle-hamburg.com/wp-content/uploads/2025/04/Gross-Discolicious_1804_Eventbanner.jpeg
END:VEVENT
END:VCALENDAR