BEGIN:VCALENDAR
VERSION:2.0
PRODID:-//Circle Club Winterhude - ECPv6.15.18//NONSGML v1.0//EN
CALSCALE:GREGORIAN
METHOD:PUBLISH
X-WR-CALNAME:Circle Club Winterhude
X-ORIGINAL-URL:https://circle-hamburg.com
X-WR-CALDESC:Veranstaltungen für Circle Club Winterhude
REFRESH-INTERVAL;VALUE=DURATION:PT1H
X-Robots-Tag:noindex
X-PUBLISHED-TTL:PT1H
BEGIN:VTIMEZONE
TZID:Europe/Berlin
BEGIN:DAYLIGHT
TZOFFSETFROM:+0100
TZOFFSETTO:+0200
TZNAME:CEST
DTSTART:20240331T010000
END:DAYLIGHT
BEGIN:STANDARD
TZOFFSETFROM:+0200
TZOFFSETTO:+0100
TZNAME:CET
DTSTART:20241027T010000
END:STANDARD
BEGIN:DAYLIGHT
TZOFFSETFROM:+0100
TZOFFSETTO:+0200
TZNAME:CEST
DTSTART:20250330T010000
END:DAYLIGHT
BEGIN:STANDARD
TZOFFSETFROM:+0200
TZOFFSETTO:+0100
TZNAME:CET
DTSTART:20251026T010000
END:STANDARD
BEGIN:DAYLIGHT
TZOFFSETFROM:+0100
TZOFFSETTO:+0200
TZNAME:CEST
DTSTART:20260329T010000
END:DAYLIGHT
BEGIN:STANDARD
TZOFFSETFROM:+0200
TZOFFSETTO:+0100
TZNAME:CET
DTSTART:20261025T010000
END:STANDARD
END:VTIMEZONE
BEGIN:VEVENT
DTSTART;TZID=Europe/Berlin:20250412T220000
DTEND;TZID=Europe/Berlin:20250412T220000
DTSTAMP:20260424T212931
CREATED:20250324T141047Z
LAST-MODIFIED:20250401T092741Z
UID:40151-1744495200-1744495200@circle-hamburg.com
SUMMARY:BOHEME
DESCRIPTION:🔥 THIS SATURDAY: BOHÈME – APRIL 12TH 🔥 \nBOHÈME means rhythm\, energy\, and unexpected moments. This week\, we hand the night over to Jamek Ortega & Friends – bringing their unique vibe and signature sound to the floor. \n🎶 From deep grooves to hypnotic House – expect the unexpected. \nEvery Saturday. No limits\, just rhythm. 🖤🪶 \n💥 Experience it or hear about it later.
URL:https://circle-hamburg.com/event/boheme-5/
CATEGORIES:events
ATTACH;FMTTYPE=image/jpeg:https://circle-hamburg.com/wp-content/uploads/2025/03/Boheme_1204_Eventbanner.jpg
END:VEVENT
END:VCALENDAR