BEGIN:VCALENDAR
VERSION:2.0
PRODID:-//Circle Club Winterhude - ECPv6.15.18//NONSGML v1.0//EN
CALSCALE:GREGORIAN
METHOD:PUBLISH
X-ORIGINAL-URL:https://circle-hamburg.com
X-WR-CALDESC:Veranstaltungen für Circle Club Winterhude
REFRESH-INTERVAL;VALUE=DURATION:PT1H
X-Robots-Tag:noindex
X-PUBLISHED-TTL:PT1H
BEGIN:VTIMEZONE
TZID:Europe/Berlin
BEGIN:DAYLIGHT
TZOFFSETFROM:+0100
TZOFFSETTO:+0200
TZNAME:CEST
DTSTART:20240331T010000
END:DAYLIGHT
BEGIN:STANDARD
TZOFFSETFROM:+0200
TZOFFSETTO:+0100
TZNAME:CET
DTSTART:20241027T010000
END:STANDARD
BEGIN:DAYLIGHT
TZOFFSETFROM:+0100
TZOFFSETTO:+0200
TZNAME:CEST
DTSTART:20250330T010000
END:DAYLIGHT
BEGIN:STANDARD
TZOFFSETFROM:+0200
TZOFFSETTO:+0100
TZNAME:CET
DTSTART:20251026T010000
END:STANDARD
BEGIN:DAYLIGHT
TZOFFSETFROM:+0100
TZOFFSETTO:+0200
TZNAME:CEST
DTSTART:20260329T010000
END:DAYLIGHT
BEGIN:STANDARD
TZOFFSETFROM:+0200
TZOFFSETTO:+0100
TZNAME:CET
DTSTART:20261025T010000
END:STANDARD
END:VTIMEZONE
BEGIN:VEVENT
DTSTART;TZID=Europe/Berlin:20250329T220000
DTEND;TZID=Europe/Berlin:20250329T220000
DTSTAMP:20260425T021643
CREATED:20250312T091524Z
LAST-MODIFIED:20250401T092955Z
UID:40041-1743285600-1743285600@circle-hamburg.com
SUMMARY:BOHEME
DESCRIPTION:🔥 THIS SATURDAY: BOHÈME – MARCH 29TH 🔥 \nTwo selectors\, one rhythm. This Saturday\, Jamek Ortega & LE/ON take over BOHÈME with a sound journey that’s deep\, driving\, and full of emotion. \n🎶 From hypnotic House to Afro-infused grooves – the night belongs to the rhythm. \nFor those who move with intention\, style\, and connection. \nEvery Saturday. No limits\, just rhythm. 🖤🪶 \n💥 Experience it or hear about it later.
URL:https://circle-hamburg.com/event/boheme-4/
CATEGORIES:events
ATTACH;FMTTYPE=image/jpeg:https://circle-hamburg.com/wp-content/uploads/2025/03/Boheme-Entwuerfe_2903-1.jpg
END:VEVENT
END:VCALENDAR