BEGIN:VCALENDAR
VERSION:2.0
PRODID:-//Circle Club Winterhude - ECPv6.15.18//NONSGML v1.0//EN
CALSCALE:GREGORIAN
METHOD:PUBLISH
X-WR-CALNAME:Circle Club Winterhude
X-ORIGINAL-URL:https://circle-hamburg.com
X-WR-CALDESC:Veranstaltungen für Circle Club Winterhude
REFRESH-INTERVAL;VALUE=DURATION:PT1H
X-Robots-Tag:noindex
X-PUBLISHED-TTL:PT1H
BEGIN:VTIMEZONE
TZID:UTC
BEGIN:STANDARD
TZOFFSETFROM:+0000
TZOFFSETTO:+0000
TZNAME:UTC
DTSTART:20240101T000000
END:STANDARD
END:VTIMEZONE
BEGIN:VEVENT
DTSTART;TZID=UTC:20250319T220000
DTEND;TZID=UTC:20250319T220000
DTSTAMP:20260425T181421
CREATED:20250226T144554Z
LAST-MODIFIED:20250305T181223Z
UID:39725-1742421600-1742421600@circle-hamburg.com
SUMMARY:ONE LOVE MITTWOCH
DESCRIPTION:
URL:https://circle-hamburg.com/event/one-love-mittwoch-2025-03-19/
CATEGORIES:events
ATTACH;FMTTYPE=image/jpeg:https://circle-hamburg.com/wp-content/uploads/2025/02/ONE_LOVE_EVENTBANNER-scaled.jpg
END:VEVENT
END:VCALENDAR